BEGIN:VCALENDAR
CALSCALE:GREGORIAN
METHOD:PUBLISH
PRODID:-//github.com/ical-org/ical.net//NONSGML ical.net 4.0//EN
VERSION:2.0
X-WR-TIMEZONE:US/Eastern
BEGIN:VEVENT
CATEGORIES:Halloween
CATEGORIES:Holiday Event
CATEGORIES:Recreation
CATEGORIES:Recreation Centers
CATEGORIES:Teens
DESCRIPTION:To verify info please see https://apps.alexandriava.gov/Calend
 ar/Detail.aspx?si=53381\n\nAges 13-17. The William Ramsay Recreation Cent
 er is hosting its 2nd annual HalloTeen night. Come dressed to impress and
  participate in the costume contest. Dance to a live DJ\, compete in bask
 etball and dodgeball\, play games\, create art\, eat food\, and earn some
  candy. Costumes are encouraged.\n\nLocation: William Ramsay Recreation C
 enter\, 5650 Sanger Ave.\nContact Phone: 703.746.5558\nAudience: Anyone m
 ay attend\nTags: Halloween\, Holiday Event\, Recreation\, Recreation Cent
 ers\, Teens
DTEND:20231028T020000Z
DTSTAMP:20230803T171735Z
DTSTART:20231027T233000Z
GEO:38.826896;-77.130203
LOCATION:William Ramsay Recreation Center\, 5650 Sanger Ave.
SEQUENCE:5
STATUS:CONFIRMED
SUMMARY:HalloTeen Night
TRANSP:OPAQUE
UID:582400d4-ef86-4dd7-a203-29b60e4bac9a
X-ALT-DESC;FMTTYPE=text/html:To verify info please see <a href="https://ap
 ps.alexandriava.gov/Calendar/Detail.aspx?si=53381">https://apps.alexandri
 ava.gov/Calendar/Detail.aspx?si=53381</a><br />\n<br />Ages 13-17. The Wi
 lliam Ramsay Recreation Center is hosting its 2nd annual HalloTeen night.
  Come dressed to impress and participate in the costume contest. Dance to
  a live DJ\, compete in basketball and dodgeball\, play games\, create ar
 t\, eat food\, and earn some candy. Costumes are encouraged.\n<br />\n<br
  />Location: William Ramsay Recreation Center\, 5650 Sanger Ave.\n<br />C
 ontact Phone: 703.746.5558\n<br />Audience: Anyone may attend\n<br />Tags
 : Halloween\, Holiday Event\, Recreation\, Recreation Centers\, Teens
X-COA-DTSTAMP:20230803T171735Z
END:VEVENT
END:VCALENDAR
