BEGIN:VCALENDAR
CALSCALE:GREGORIAN
METHOD:PUBLISH
PRODID:-//github.com/ical-org/ical.net//NONSGML ical.net 4.0//EN
VERSION:2.0
X-WR-TIMEZONE:US/Eastern
BEGIN:VEVENT
CATEGORIES:Family
CATEGORIES:Halloween
CATEGORIES:Holiday Event
CATEGORIES:Recreation
CATEGORIES:Recreation Centers
DESCRIPTION:To verify info please see https://apps.alexandriava.gov/Calend
 ar/Detail.aspx?si=53379\n\nAll Ages. All residents and families in the Ci
 ty of Alexandria are invited to the social engagement of the year. Enjoy 
 dancing\, photo opportunities\, a best dressed costume contest and refres
 hments.\n\nLocation: Mt. Vernon Rec Center\, 2701 Commonwealth Ave.\nCont
 act Phone: 703.746.5556\nFees: $9/person\nAudience: Anyone may attend\nTa
 gs: Family\, Halloween\, Holiday Event\, Recreation\, Recreation Centers
DTEND:20231028T010000Z
DTSTAMP:20230803T171429Z
DTSTART:20231027T223000Z
GEO:38.828709;-77.060096
LOCATION:Mt. Vernon Rec Center\, 2701 Commonwealth Ave.
SEQUENCE:5
STATUS:CONFIRMED
SUMMARY:Family Masquerade Ball
TRANSP:OPAQUE
UID:f88bb35a-bd8d-4fb9-8c80-35fa8432ea89
X-ALT-DESC;FMTTYPE=text/html:To verify info please see <a href="https://ap
 ps.alexandriava.gov/Calendar/Detail.aspx?si=53379">https://apps.alexandri
 ava.gov/Calendar/Detail.aspx?si=53379</a><br />\n<br />All Ages. All resi
 dents and families in the City of Alexandria are invited to the social en
 gagement of the year. Enjoy dancing\, photo opportunities\, a best dresse
 d costume contest and refreshments.\n<br />\n<br />Location: Mt. Vernon R
 ec Center\, 2701 Commonwealth Ave.\n<br />Contact Phone: 703.746.5556\n<b
 r />Fees: $9/person\n<br />Audience: Anyone may attend\n<br />Tags: Famil
 y\, Halloween\, Holiday Event\, Recreation\, Recreation Centers
X-COA-DTSTAMP:20230803T171429Z
END:VEVENT
END:VCALENDAR
