BEGIN:VCALENDAR
CALSCALE:GREGORIAN
METHOD:PUBLISH
PRODID:-//github.com/ical-org/ical.net//NONSGML ical.net 4.0//EN
VERSION:2.0
X-WR-TIMEZONE:US/Eastern
BEGIN:VEVENT
CATEGORIES:Family
CATEGORIES:Halloween
CATEGORIES:Holiday Event
CATEGORIES:Recreation
CATEGORIES:Recreation Centers
DESCRIPTION:To verify info please see https://apps.alexandriava.gov/Calend
 ar/Detail.aspx?si=53378\n\nAll Ages. Join us at the Patrick Henry Recreat
 ion Center for a thrilling Family Fall Festival! Enjoy an array of exciti
 ng games\, explore our spooky haunted house\, get creative with arts and 
 crafts\, indulge in delicious snacks\, and stand a chance to win fantasti
 c prizes. A fun-filled event for the\nwhole family!\n\nLocation: Patrick 
 Henry Recreation Center\, 4653 Taney Ave.\nContact Phone: 703.746.5557\nF
 ees: $15/person\nAudience: Anyone may attend\nTags: Family\, Halloween\, 
 Holiday Event\, Recreation\, Recreation Centers
DTEND:20231028T003000Z
DTSTAMP:20230803T171459Z
DTSTART:20231027T223000Z
GEO:38.816255;-77.111492
LOCATION:Patrick Henry Recreation Center\, 4653 Taney Ave.
SEQUENCE:6
STATUS:CONFIRMED
SUMMARY:Family October Fest 2023
TRANSP:OPAQUE
UID:8e4d26c2-ec6d-432c-97d8-185d0e026850
X-ALT-DESC;FMTTYPE=text/html:To verify info please see <a href="https://ap
 ps.alexandriava.gov/Calendar/Detail.aspx?si=53378">https://apps.alexandri
 ava.gov/Calendar/Detail.aspx?si=53378</a><br />\n<br />All Ages. Join us 
 at the Patrick Henry Recreation Center for a thrilling Family Fall Festiv
 al! Enjoy an array of exciting games\, explore our spooky haunted house\,
  get creative with arts and crafts\, indulge in delicious snacks\, and st
 and a chance to win fantastic prizes. A fun-filled event for the\n<br />w
 hole family!\n<br />\n<br />Location: Patrick Henry Recreation Center\, 4
 653 Taney Ave.\n<br />Contact Phone: 703.746.5557\n<br />Fees: $15/person
 \n<br />Audience: Anyone may attend\n<br />Tags: Family\, Halloween\, Hol
 iday Event\, Recreation\, Recreation Centers
X-COA-DTSTAMP:20230803T171459Z
END:VEVENT
END:VCALENDAR
