BEGIN:VCALENDAR
CALSCALE:GREGORIAN
METHOD:PUBLISH
PRODID:-//github.com/ical-org/ical.net//NONSGML ical.net 4.0//EN
VERSION:2.0
X-WR-TIMEZONE:US/Eastern
BEGIN:VEVENT
CATEGORIES:Family
CATEGORIES:Halloween
CATEGORIES:Holiday Event
CATEGORIES:Recreation
CATEGORIES:Recreation Centers
DESCRIPTION:To verify info please see https://apps.alexandriava.gov/Calend
 ar/Detail.aspx?si=53377\n\nAll Ages. Get dressed up and join us for a gob
 lin good time. Festivities will include a costume parade\, carnival games
 \, moon bounce\, arts and crafts\, spooky stories\, and more! This fun fi
 lled spooky festival is fit for the\nentire family and held in partnershi
 p with the Naomi L Brooks Elementary School PTA.\n\nLocation: Charles Hou
 ston Recreation Center\, 901 Wythe St.\nContact Phone: 703.746.5552\nAudi
 ence: Anyone may attend\nTags: Family\, Halloween\, Holiday Event\, Recre
 ation\, Recreation Centers
DTEND:20231028T003000Z
DTSTAMP:20231016T161606Z
DTSTART:20231027T223000Z
GEO:38.812326;-77.048213
LOCATION:Charles Houston Recreation Center\, 901 Wythe St.
SEQUENCE:6
STATUS:CONFIRMED
SUMMARY:Boo-Fest
TRANSP:OPAQUE
UID:4709611d-8f0b-436c-a3fa-4361ce2743c8
X-ALT-DESC;FMTTYPE=text/html:To verify info please see <a href="https://ap
 ps.alexandriava.gov/Calendar/Detail.aspx?si=53377">https://apps.alexandri
 ava.gov/Calendar/Detail.aspx?si=53377</a><br />\n<br />All Ages. Get dres
 sed up and join us for a goblin good time. Festivities will include a cos
 tume parade\, carnival games\, moon bounce\, arts and crafts\, spooky sto
 ries\, and more! This fun filled spooky festival is fit for the\n<br />en
 tire family and held in partnership with the Naomi L Brooks Elementary Sc
 hool PTA.\n<br />\n<br />Location: Charles Houston Recreation Center\, 90
 1 Wythe St.\n<br />Contact Phone: 703.746.5552\n<br />Audience: Anyone ma
 y attend\n<br />Tags: Family\, Halloween\, Holiday Event\, Recreation\, R
 ecreation Centers
X-COA-DTSTAMP:20231016T161606Z
END:VEVENT
END:VCALENDAR
