BEGIN:VCALENDAR
CALSCALE:GREGORIAN
METHOD:PUBLISH
PRODID:-//github.com/ical-org/ical.net//NONSGML ical.net 4.0//EN
VERSION:2.0
X-WR-TIMEZONE:US/Eastern
BEGIN:VEVENT
CATEGORIES:Cablecast
CATEGORIES:City Council
CATEGORIES:City Council Calendar
CATEGORIES:City Council Public Comment Opportunity
CATEGORIES:City Hall
CATEGORIES:Council Meeting
CATEGORIES:Live Closed Captioning
CATEGORIES:Public Hearing
CATEGORIES:Webcast
DESCRIPTION:To verify info please see https://apps.alexandriava.gov/Calend
 ar/Detail.aspx?si=52284\n\nThe February 24\, 2024 Public Hearing Meeting 
 of the Alexandria City Council is being held in the Council Chamber (301 
 King Street\, Alexandria\, Virginia\, 22314) and electronically. Members 
 of City Council and staff are participating either in-person or from a re
 mote location through video conference call on Zoom webinar. The meeting 
 can be accessed by government channel 70\, streaming on the City's websit
 e\, and\nvia Zoom by the following link:\n\nWebinar ID: 941 5247 3452\nWe
 binar Passcode:  475494\nDial-in number: 301-715-8592\nRegistration :  ht
 tps://zoom.us/webinar/register/WN_EJslv9rwT3q7aEUZcPYRkQ \n\nIf you use t
 he Zoom webinar application\, please be sure you have updated the applica
 tion to the latest version for the best results. If you are unable to acc
 ess the Zoom webinar\, please use the Dial-In number to access the meetin
 g.\n\n***PLEASE LOG-IN EARLY IF POSSIBLE***\n\nLinks:\nMeeting Agenda and
  Live Webcast\nThe meeting will be webcast live and video and audio recor
 dings will be available a few days after the meeting.\n\nZoom Registratio
 n Form\nIf you wish to use Zoom to watch the meeting or to address Counci
 l\, you must register first. Those wishing to address Council should also
  submit a Speaker's Form using the link below.\n\nSpeaker's Form\nhttps:/
 /survey.alexandriava.gov/s3/2020-VIRTUAL-City-Council-Speakers-Form\n\nSu
 bmission of written statements is encouraged. Please sign up after the do
 cket is created and posted and you are able to verify the meeting date on
  the City's website. If you have prepared statement or a written comments
  for the record you may email it to the City Clerk at CouncilComment@alex
 andriava.gov.\n\nPublic Comment will be received at this meeting.\n\n****
 *\nIndividuals requiring translation services should contact the City Cle
 rk and Clerk of Council at gloria.sitton@alexandriava.gov or at 703.746.4
 550. We request that you provide a 48-hour notice so that the proper arra
 ngements may be made. Please specify the language for translation when yo
 u make the request.\n\nLas personas que requieran servicios de traducci?n
  deben comunicarse con el Secretario de la Ciudad y el Secretario del Con
 sejo en gloria.sitton@alexandriava.gov o al 703.746.4550. Le solicitamos 
 que proporcione un aviso de 48 horas para que se puedan hacer los arreglo
 s necesarios. Por favor\, especifique el idioma de traducci?n cuando real
 ice la solicitud.\n\nLocation: City Hall\, Council Chamber\, 301 King St.
 \nAudience: Anyone may attend\nTags: Cablecast\, City Council\, City Coun
 cil Calendar\, City Council Public Comment Opportunity\, City Hall\, Coun
 cil Meeting\, Live Closed Captioning\, Public Hearing\, Webcast\n\nWeb re
 sources:\n\nMeeting Agenda\nhttps://legistar.granicus.com/alexandria/meet
 ings/2024/2/2462_A_City_Council_Public_Hearing_24-02-24_Docket.pdf?id=366
 2ae47-f506-440f-8be3-594b5e08c55c\n\nSpeaker Form\nhttps://survey.alexand
 riava.gov/s3/2020-VIRTUAL-City-Council-Speakers-Form\n
DTEND:20240224T163000Z
DTSTAMP:20240214T190425Z
DTSTART:20240224T143000Z
GEO:38.805393;-77.043273
LOCATION:City Hall\, Council Chamber\, 301 King St.
SEQUENCE:6
STATUS:CONFIRMED
SUMMARY:City Council Public Hearing Meeting
TRANSP:TRANSPARENT
UID:e483036a-e6aa-499f-b092-c48b4b52f6d4
URL:https://legistar.granicus.com/alexandria/meetings/2024/2/2462_A_City_C
 ouncil_Public_Hearing_24-02-24_Docket.pdf?id=3662ae47-f506-440f-8be3-594b
 5e08c55c
X-ALT-DESC;FMTTYPE=text/html:To verify info please see <a href="https://ap
 ps.alexandriava.gov/Calendar/Detail.aspx?si=52284">https://apps.alexandri
 ava.gov/Calendar/Detail.aspx?si=52284</a><br />\n<br />The February 24\, 
 2024 Public Hearing Meeting of the Alexandria City Council is being held 
 in the Council Chamber (301 King Street\, Alexandria\, Virginia\, 22314) 
 and electronically. Members of City Council and staff are participating e
 ither in-person or from a remote location through video conference call o
 n Zoom webinar. The meeting can be accessed by government channel 70\, st
 reaming on the City&#39\;s website\, and\n<br />via Zoom by the following
  link:\n<br />\n<br />Webinar ID: 941 5247 3452\n<br />Webinar Passcode: 
  475494\n<br />Dial-in number: 301-715-8592\n<br />Registration :  https:
 //zoom.us/webinar/register/WN_EJslv9rwT3q7aEUZcPYRkQ \n<br />\n<br />If y
 ou use the Zoom webinar application\, please be sure you have updated the
  application to the latest version for the best results. If you are unabl
 e to access the Zoom webinar\, please use the Dial-In number to access th
 e meeting.\n<br />\n<br />***PLEASE LOG-IN EARLY IF POSSIBLE***\n<br />\n
 <br />Links:\n<br />Meeting Agenda and Live Webcast\n<br />The meeting wi
 ll be webcast live and video and audio recordings will be available a few
  days after the meeting.\n<br />\n<br />Zoom Registration Form\n<br />If 
 you wish to use Zoom to watch the meeting or to address Council\, you mus
 t register first. Those wishing to address Council should also submit a S
 peaker&#39\;s Form using the link below.\n<br />\n<br />Speaker&#39\;s Fo
 rm\n<br /><a href="https://survey.alexandriava.gov/s3/2020-VIRTUAL-City-C
 ouncil-Speakers-Form">https://survey.alexandriava.gov/s3/2020-VIRTUAL-Cit
 y-Council-Speakers-Form</a><br />\n<br />Submission of written statements
  is encouraged. Please sign up after the docket is created and posted and
  you are able to verify the meeting date on the City&#39\;s website. If y
 ou have prepared statement or a written comments for the record you may e
 mail it to the City Clerk at CouncilComment@alexandriava.gov.\n<br />\n<b
 r />Public Comment will be received at this meeting.\n<br />\n<br />*****
 \n<br />Individuals requiring translation services should contact the Cit
 y Clerk and Clerk of Council at gloria.sitton@alexandriava.gov or at 703.
 746.4550. We request that you provide a 48-hour notice so that the proper
  arrangements may be made. Please specify the language for translation wh
 en you make the request.\n<br />\n<br />Las personas que requieran servic
 ios de traducci&#243\;n deben comunicarse con el Secretario de la Ciudad 
 y el Secretario del Consejo en gloria.sitton@alexandriava.gov o al 703.74
 6.4550. Le solicitamos que proporcione un aviso de 48 horas para que se p
 uedan hacer los arreglos necesarios. Por favor\, especifique el idioma de
  traducci&#243\;n cuando realice la solicitud.\n<br />\n<br />Location: C
 ity Hall\, Council Chamber\, 301 King St.\n<br />Audience: Anyone may att
 end\n<br />Tags: Cablecast\, City Council\, City Council Calendar\, City 
 Council Public Comment Opportunity\, City Hall\, Council Meeting\, Live C
 losed Captioning\, Public Hearing\, Webcast<br>\n<a href="https://legista
 r.granicus.com/alexandria/meetings/2024/2/2462_A_City_Council_Public_Hear
 ing_24-02-24_Docket.pdf?id=3662ae47-f506-440f-8be3-594b5e08c55c">Meeting 
 Agenda</a><br>\n<a href="https://survey.alexandriava.gov/s3/2020-VIRTUAL-
 City-Council-Speakers-Form">Speaker Form</a><br>\n
X-COA-DTSTAMP:20240214T190425Z
END:VEVENT
END:VCALENDAR
