BEGIN:VCALENDAR
CALSCALE:GREGORIAN
METHOD:PUBLISH
PRODID:-//github.com/ical-org/ical.net//NONSGML ical.net 4.0//EN
VERSION:2.0
X-WR-TIMEZONE:US/Eastern
BEGIN:VEVENT
CATEGORIES:Archaeology Museum
CATEGORIES:Museums
CATEGORIES:Old & Historic Alexandria
CATEGORIES:Torpedo Factory Art Center
DESCRIPTION:To verify info please see https://apps.alexandriava.gov/Calend
 ar/Detail.aspx?si=52143\n\nVisit the Alexandria Archaeology Museum on Fri
 day\, June 16 from 11 a.m. - 4 p.m. for a hands-on activity related to a 
 site excavated in Alexandria's 19th century African American neighborhood
  of Hayti. The activity is paired with the new Lee Street Site permanent 
 archaeology exhibit. Cases and panels display artifacts and reveal the ar
 chaeological process and the history of Alexandria as seen through waterf
 ront archaeological sites. The Lee Street Site answers questions like: wh
 at is urban archaeology\; what did the city look like in the past\; and w
 hat do archaeologists do? The newly designed exhibit centers the experien
 ces of free and enslaved African Americans in Alexandria. \n\nLocation: A
 lexandria Archaeology Museum\, 105 N. Union St.\nContact Person: Emma Ric
 hardson\nContact Phone: 703.746.4399\nContact Email: archaeology@alexandr
 iava.gov\nAudience: Anyone may attend\nTags: Archaeology Museum\, Museums
 \, Old & Historic Alexandria\, Torpedo Factory Art Center
DTEND:20230616T200000Z
DTSTAMP:20230601T000754Z
DTSTART:20230616T150000Z
GEO:38.804893;-77.040001
LOCATION:Alexandria Archaeology Museum\, 105 N. Union St.
SEQUENCE:5
STATUS:CONFIRMED
SUMMARY:Juneteenth at the Alexandria Archaeology Museum
TRANSP:TRANSPARENT
UID:28056956-fb43-4e63-9c08-69e323867e57
X-ALT-DESC;FMTTYPE=text/html:To verify info please see <a href="https://ap
 ps.alexandriava.gov/Calendar/Detail.aspx?si=52143">https://apps.alexandri
 ava.gov/Calendar/Detail.aspx?si=52143</a><br />\n<br />Visit the Alexandr
 ia Archaeology Museum on Friday\, June 16 from 11 a.m. - 4 p.m. for a han
 ds-on activity related to a site excavated in Alexandria&#39\;s 19th cent
 ury African American neighborhood of Hayti. The activity is paired with t
 he new Lee Street Site permanent archaeology exhibit. Cases and panels di
 splay artifacts and reveal the archaeological process and the history of 
 Alexandria as seen through waterfront archaeological sites. The Lee Stree
 t Site answers questions like: what is urban archaeology\; what did the c
 ity look like in the past\; and what do archaeologists do? The newly desi
 gned exhibit centers the experiences of free and enslaved African America
 ns in Alexandria. \n<br />\n<br />Location: Alexandria Archaeology Museum
 \, 105 N. Union St.\n<br />Contact Person: Emma Richardson\n<br />Contact
  Phone: 703.746.4399\n<br />Contact Email: archaeology@alexandriava.gov\n
 <br />Audience: Anyone may attend\n<br />Tags: Archaeology Museum\, Museu
 ms\, Old &amp\; Historic Alexandria\, Torpedo Factory Art Center
X-COA-DTSTAMP:20230601T000754Z
END:VEVENT
END:VCALENDAR
