BEGIN:VCALENDAR
CALSCALE:GREGORIAN
METHOD:PUBLISH
PRODID:-//github.com/ical-org/ical.net//NONSGML ical.net 4.0//EN
VERSION:2.0
X-WR-TIMEZONE:US/Eastern
BEGIN:VEVENT
CATEGORIES:Affordable Housing
DESCRIPTION:To verify info please see https://apps.alexandriava.gov/Calend
 ar/Detail.aspx?si=50701\n\nThe City continues to work collaboratively wit
 h our local jurisdictions to host this educational event for the communit
 y.\n\nThe event is at Dominion High School in Sterling (21326 Augusta Dr\
 , Sterling\, VA 20164).\n\n \n\nLocation:  No Location Specified\nContact
  Person: Brandi Collins\nContact Phone: 571.289.8970\nContact Email: bran
 di.collins@alexandriava.gov\nAudience: Anyone may attend\nTags: Affordabl
 e Housing\n\nWeb resources:\n\n13th Annual Northern Virginia Housing Expo
 \nhttps://www.novahousingexpo.org/\n
DTEND:20230401T190000Z
DTSTAMP:20230331T194430Z
DTSTART:20230401T140000Z
SEQUENCE:6
STATUS:CONFIRMED
SUMMARY:2023 Northern Virginia Housing Expo
TRANSP:OPAQUE
UID:052bdef1-a67e-4523-900e-f876e9eaf911
URL:https://www.novahousingexpo.org/
X-ALT-DESC;FMTTYPE=text/html:To verify info please see <a href="https://ap
 ps.alexandriava.gov/Calendar/Detail.aspx?si=50701">https://apps.alexandri
 ava.gov/Calendar/Detail.aspx?si=50701</a><br />\n<br />The City continues
  to work collaboratively with our local jurisdictions to host this educat
 ional event for the community.\n<br />\n<br />The event is at Dominion Hi
 gh School in Sterling (21326 Augusta Dr\, Sterling\, VA 20164).\n<br />\n
 <br /> \n<br />\n<br />Location:  No Location Specified\n<br />Contact Pe
 rson: Brandi Collins\n<br />Contact Phone: 571.289.8970\n<br />Contact Em
 ail: brandi.collins@alexandriava.gov\n<br />Audience: Anyone may attend\n
 <br />Tags: Affordable Housing<br>\n<a href="https://www.novahousingexpo.
 org/">13th Annual Northern Virginia Housing Expo</a><br>\n
X-COA-DTSTAMP:20230331T194430Z
END:VEVENT
END:VCALENDAR
