BEGIN:VCALENDAR
CALSCALE:GREGORIAN
METHOD:PUBLISH
PRODID:-//github.com/ical-org/ical.net//NONSGML ical.net 4.0//EN
VERSION:2.0
X-WR-TIMEZONE:US/Eastern
BEGIN:VEVENT
CATEGORIES:Boards & Commissions
CATEGORIES:Commission Meeting
CATEGORIES:Environment
CATEGORIES:Green Buildings
CATEGORIES:Open Space
CATEGORIES:Trees
DESCRIPTION:To verify info please see https://apps.alexandriava.gov/Calend
 ar/Detail.aspx?si=50521\n\nAlexandria Beautification Commission Meeting\n
 \nLocation: Charles Houston Recreation Center\, 901 Wythe St.\nContact Pe
 rson: Oscar Mendoza\nContact Phone: 703.746.4667\nContact Email: oscar.me
 ndoza@alexandriava.gov\nAudience: Anyone may attend\nTags: Boards & Commi
 ssions\, Commission Meeting\, Environment\, Green Buildings\, Open Space\
 , Trees\n\nWeb resources:\n\nhttps://www.alexandriava.gov/Beautification\
 n
DTEND:20231013T010000Z
DTSTAMP:20230105T202415Z
DTSTART:20231012T233000Z
GEO:38.812326;-77.048213
LOCATION:Charles Houston Recreation Center\, 901 Wythe St.
SEQUENCE:5
STATUS:CONFIRMED
SUMMARY:Alexandria Beautification Commission Meeting
TRANSP:TRANSPARENT
UID:bf8626ee-4c5f-47d8-90d7-38ecab78082d
URL:https://www.alexandriava.gov/Beautification
X-ALT-DESC;FMTTYPE=text/html:To verify info please see <a href="https://ap
 ps.alexandriava.gov/Calendar/Detail.aspx?si=50521">https://apps.alexandri
 ava.gov/Calendar/Detail.aspx?si=50521</a><br />\n<br />Alexandria Beautif
 ication Commission Meeting\n<br />\n<br />Location: Charles Houston Recre
 ation Center\, 901 Wythe St.\n<br />Contact Person: Oscar Mendoza\n<br />
 Contact Phone: 703.746.4667\n<br />Contact Email: oscar.mendoza@alexandri
 ava.gov\n<br />Audience: Anyone may attend\n<br />Tags: Boards &amp\; Com
 missions\, Commission Meeting\, Environment\, Green Buildings\, Open Spac
 e\, Trees<br>\n<a href="https://www.alexandriava.gov/Beautification">http
 s://www.alexandriava.gov/Beautification</a><br>\n
X-COA-DTSTAMP:20230105T202415Z
END:VEVENT
END:VCALENDAR
