BEGIN:VCALENDAR
CALSCALE:GREGORIAN
METHOD:PUBLISH
PRODID:-//github.com/ical-org/ical.net//NONSGML ical.net 4.0//EN
VERSION:2.0
X-WR-TIMEZONE:US/Eastern
BEGIN:VEVENT
CATEGORIES:Board of Zoning Appeals
CATEGORIES:Boards & Commissions
CATEGORIES:Cablecast
CATEGORIES:Commission Meeting
CATEGORIES:Planning Boards and Commissions
CATEGORIES:Planning Meeting
CATEGORIES:Public Hearing
CATEGORIES:Webcast
DESCRIPTION:To verify info please see https://apps.alexandriava.gov/Calend
 ar/Detail.aspx?si=49108\n\nThis hearing has been cancelled. The next Boar
 d of Zoning Appeals hearing will take place on March 13\, 2023.\n\nLocati
 on: City Hall\, Council Chamber\, 301 King St.\nContact Person: Mary Chri
 stesen\nContact Phone: 703.746.3840\nContact Email: mary.christesen@alexa
 ndriava.gov\nAudience: Anyone may attend\nTags: Board of Zoning Appeals\,
  Boards & Commissions\, Cablecast\, Commission Meeting\, Planning Boards 
 and Commissions\, Planning Meeting\, Public Hearing\, Webcast
DTEND:20230214T020000Z
DTSTAMP:20230112T160439Z
DTSTART:20230214T000001Z
GEO:38.805393;-77.043273
LOCATION:City Hall\, Council Chamber\, 301 King St.
SEQUENCE:12
STATUS:CONFIRMED
SUMMARY:Cancelled: Board of Zoning Appeals
TRANSP:TRANSPARENT
UID:5b25bee2-ada9-40dd-85b1-cd17e8be1795
X-ALT-DESC;FMTTYPE=text/html:To verify info please see <a href="https://ap
 ps.alexandriava.gov/Calendar/Detail.aspx?si=49108">https://apps.alexandri
 ava.gov/Calendar/Detail.aspx?si=49108</a><br />\n<br />This hearing has b
 een cancelled. The next Board of Zoning Appeals hearing will take place o
 n March 13\, 2023.\n<br />\n<br />Location: City Hall\, Council Chamber\,
  301 King St.\n<br />Contact Person: Mary Christesen\n<br />Contact Phone
 : 703.746.3840\n<br />Contact Email: mary.christesen@alexandriava.gov\n<b
 r />Audience: Anyone may attend\n<br />Tags: Board of Zoning Appeals\, Bo
 ards &amp\; Commissions\, Cablecast\, Commission Meeting\, Planning Board
 s and Commissions\, Planning Meeting\, Public Hearing\, Webcast
X-COA-DTSTAMP:20230112T160439Z
END:VEVENT
END:VCALENDAR
