BEGIN:VCALENDAR
CALSCALE:GREGORIAN
METHOD:PUBLISH
PRODID:-//github.com/ical-org/ical.net//NONSGML ical.net 4.0//EN
VERSION:2.0
X-WR-TIMEZONE:US/Eastern
BEGIN:VEVENT
CATEGORIES:Affordable Housing
CATEGORIES:Community Meeting
CATEGORIES:Community Outreach
CATEGORIES:Development
CATEGORIES:Landmark/Van Dorn
CATEGORIES:Open Space
CATEGORIES:Transportation
CATEGORIES:West End
DESCRIPTION:To verify info please see https://apps.alexandriava.gov/Calend
 ar/Detail.aspx?si=49064\n\nInova Health System is hosting a virtual commu
 nity meeting to provide an update about the development proposal for the 
 new hospital campus to be built on the former Landmark Mall site. Inova r
 esubmitted concept plans with the City for the hospital campus\, which wi
 ll include a new hospital\, a cancer center\, and a specialty care center
 . Representatives from Inova and their design consultants will present an
  overview of the current development proposal and answer questions. \n\n\
 nLocation:  Virtual Only\nContact Person: Jared Alves\nContact Phone: 703
 .746.3812\nContact Email: jared.alves@alexandriava.gov\nAudience: Anyone 
 may attend\nTags: Affordable Housing\, Community Meeting\, Community Outr
 each\, Development\, Landmark/Van Dorn\, Open Space\, Transportation\, We
 st End\n\nWeb resources:\n\nLandmark/Van Dorn Planning Project Page\nhttp
 ://alexandriava.gov/Landmark\n
DTEND:20221018T000001Z
DTSTAMP:20220926T162318Z
DTSTART:20221017T220000Z
LOCATION: Virtual Only
SEQUENCE:5
STATUS:CONFIRMED
SUMMARY:VIRTUAL: Inova Hospital Campus Development Community Mtg
TRANSP:OPAQUE
UID:d733e9a8-cd33-493e-82ad-bedf64579da1
URL:http://alexandriava.gov/Landmark
X-ALT-DESC;FMTTYPE=text/html:To verify info please see <a href="https://ap
 ps.alexandriava.gov/Calendar/Detail.aspx?si=49064">https://apps.alexandri
 ava.gov/Calendar/Detail.aspx?si=49064</a><br />\n<br />Inova Health Syste
 m is hosting a virtual community meeting to provide an update about the d
 evelopment proposal for the new hospital campus to be built on the former
  Landmark Mall site. Inova resubmitted concept plans with the City for th
 e hospital campus\, which will include a new hospital\, a cancer center\,
  and a specialty care center. Representatives from Inova and their design
  consultants will present an overview of the current development proposal
  and answer questions. \n<br />\n<br />\n<br />Location:  Virtual Only\n<
 br />Contact Person: Jared Alves\n<br />Contact Phone: 703.746.3812\n<br 
 />Contact Email: jared.alves@alexandriava.gov\n<br />Audience: Anyone may
  attend\n<br />Tags: Affordable Housing\, Community Meeting\, Community O
 utreach\, Development\, Landmark/Van Dorn\, Open Space\, Transportation\,
  West End<br>\n<a href="http://alexandriava.gov/Landmark">Landmark/Van Do
 rn Planning Project Page</a><br>\n
X-COA-DTSTAMP:20220926T162318Z
END:VEVENT
END:VCALENDAR
