BEGIN:VCALENDAR
CALSCALE:GREGORIAN
METHOD:PUBLISH
PRODID:-//github.com/ical-org/ical.net//NONSGML ical.net 4.0//EN
VERSION:2.0
X-WR-TIMEZONE:US/Eastern
BEGIN:VEVENT
CATEGORIES:Archaeology Museum
CATEGORIES:Museums
CATEGORIES:Old & Historic Alexandria
CATEGORIES:Torpedo Factory Art Center
DESCRIPTION:To verify info please see https://apps.alexandriava.gov/Calend
 ar/Detail.aspx?si=47964\n\nFor thousands of years\, Native Americans move
 d through the region\, trading and drawing resources from the land and ri
 ver. A new exhibit case at the Alexandria Archaeology Museum shows how ar
 chaeologists study changes in stone projectile point technology to help f
 igure out the age of an archaeological site and how the area was used. Vi
 sitors to the Alexandria Archaeology Museum will be able to see the case 
 starting on Tuesday\, October 11\, and virtually at www.AlexandriaArchaeo
 logy.org starting on Monday\, October 10. This exhibit was made possible 
 with help from the Friends of Alexandria Archaeology and the Pamunkey Ind
 ian Tribe.\n\nLocation: Torpedo Factory\, 105 N. Union St.\nContact Perso
 n: Emma Richardson\nContact Phone: 703.746.4399\nContact Email: Archaeolo
 gy@alexandriava.gov\nAudience: Anyone may attend\nTags: Archaeology Museu
 m\, Museums\, Old & Historic Alexandria\, Torpedo Factory Art Center
DTEND:20221011T200000Z
DTSTAMP:20221006T195841Z
DTSTART:20221011T150000Z
GEO:38.804902;-77.040017
LOCATION:Torpedo Factory\, 105 N. Union St.
SEQUENCE:6
STATUS:CONFIRMED
SUMMARY:Indigenous People's Day Exhibit Case Unveiling
TRANSP:TRANSPARENT
UID:6a3b1f9c-358a-4fb0-97a9-b86416b2e278
X-ALT-DESC;FMTTYPE=text/html:To verify info please see <a href="https://ap
 ps.alexandriava.gov/Calendar/Detail.aspx?si=47964">https://apps.alexandri
 ava.gov/Calendar/Detail.aspx?si=47964</a><br />\n<br />For thousands of y
 ears\, Native Americans moved through the region\, trading and drawing re
 sources from the land and river. A new exhibit case at the Alexandria Arc
 haeology Museum shows how archaeologists study changes in stone projectil
 e point technology to help figure out the age of an archaeological site a
 nd how the area was used. Visitors to the Alexandria Archaeology Museum w
 ill be able to see the case starting on Tuesday\, October 11\,&#160\;and 
 virtually at www.AlexandriaArchaeology.org starting on Monday\, October 1
 0. This exhibit was made possible with help from the Friends of Alexandri
 a Archaeology and the Pamunkey Indian Tribe.\n<br />\n<br />Location: Tor
 pedo Factory\, 105 N. Union St.\n<br />Contact Person: Emma Richardson\n<
 br />Contact Phone: 703.746.4399\n<br />Contact Email: Archaeology@alexan
 driava.gov\n<br />Audience: Anyone may attend\n<br />Tags: Archaeology Mu
 seum\, Museums\, Old &amp\; Historic Alexandria\, Torpedo Factory Art Cen
 ter
X-COA-DTSTAMP:20221006T195841Z
END:VEVENT
END:VCALENDAR
