BEGIN:VCALENDAR
CALSCALE:GREGORIAN
METHOD:PUBLISH
PRODID:-//github.com/ical-org/ical.net//NONSGML ical.net 4.0//EN
VERSION:2.0
X-WR-TIMEZONE:US/Eastern
BEGIN:VEVENT
CATEGORIES:Lyceum
CATEGORIES:Museums
CATEGORIES:Old Town
DESCRIPTION:To verify info please see https://apps.alexandriava.gov/Calend
 ar/Detail.aspx?si=45699\n\nYou are invited to a closing reception showcas
 ing the exhibition "Witnessing Worship: A Photographic Study of Faith in 
 Alexandria." Visit the exhibition\, meet the artist\, Nina Tisara\, and e
 njoy a glass of wine and light refreshments. The reception is free\, but 
 please RSVP here by August 23. The exhibition features 106 black-and-whit
 e images taken in 1985 by photographer Nina Tisara documenting fifty wors
 hip groups throughout the City of Alexandria. The images provide a portra
 it of Alexandria's worship community at that time. Ms. Tisara photographe
 d worship in many different churches\, as well as synagogues and a home w
 here Buddhist monks lived and worshipped. There were no mosques within th
 e city\, so none were available to be included. Nina Tisara sought to doc
 ument "the breadth\, variety\, and vitality of worship in the city." She 
 came to call her project Converging Paths because the experience led her 
 to conclude that\, despite the many different paths worship takes\, "we a
 re all kin."\n\nLocation: Lyceum\nFees: Free - Register at AlexandriaVA.g
 ov/Shop\nAudience: Anyone may attend\nTags: Lyceum\, Museums\, Old Town\n
 \nWeb resources:\n\nRegister Here\nhttps://alexandriava.gov/shop\n
DTEND:20220824T233000Z
DTSTAMP:20220718T202557Z
DTSTART:20220824T213000Z
LOCATION:Lyceum
SEQUENCE:6
STATUS:CONFIRMED
SUMMARY:Witnessing Worship Closing Reception
TRANSP:TRANSPARENT
UID:f9455caa-ad2f-4ae9-99f2-32588bd32d23
URL:https://alexandriava.gov/shop
X-ALT-DESC;FMTTYPE=text/html:To verify info please see <a href="https://ap
 ps.alexandriava.gov/Calendar/Detail.aspx?si=45699">https://apps.alexandri
 ava.gov/Calendar/Detail.aspx?si=45699</a><br />\n<br />You are invited to
  a closing reception showcasing the exhibition ?Witnessing Worship: A Pho
 tographic Study of Faith in Alexandria.? Visit the exhibition\, meet the 
 artist\, Nina Tisara\, and enjoy a glass of wine and light refreshments. 
 The reception is free\, but please RSVP here by August 23. The exhibition
  features 106 black-and-white images taken in 1985 by photographer Nina T
 isara documenting fifty worship groups throughout the City of Alexandria.
  The images provide a portrait of Alexandria?s worship community at that 
 time. Ms. Tisara photographed worship in many different churches\, as wel
 l as synagogues and a home where Buddhist monks lived and worshipped. The
 re were no mosques within the city\, so none were available to be include
 d. Nina Tisara sought to document ?the breadth\, variety\, and vitality o
 f worship in the city.? She came to call her project Converging Paths bec
 ause the experience led her to conclude that\, despite the many different
  paths worship takes\, ?we are all kin.?\n<br />\n<br />Location: Lyceum\
 n<br />Fees: Free ? Register at AlexandriaVA.gov/Shop\n<br />Audience: An
 yone may attend\n<br />Tags: Lyceum\, Museums\, Old Town<br>\n<a href="ht
 tps://alexandriava.gov/shop">Register Here</a><br>\n
X-COA-DTSTAMP:20220718T202557Z
END:VEVENT
END:VCALENDAR
