BEGIN:VCALENDAR
CALSCALE:GREGORIAN
METHOD:PUBLISH
PRODID:-//github.com/ical-org/ical.net//NONSGML ical.net 4.0//EN
VERSION:2.0
X-WR-TIMEZONE:US/Eastern
BEGIN:VEVENT
CATEGORIES:Boards & Commissions
CATEGORIES:Business Development
CATEGORIES:Commission Meeting
CATEGORIES:King Street
CATEGORIES:Tourism
CATEGORIES:Washington Street
DESCRIPTION:To verify info please see https://apps.alexandriava.gov/Calend
 ar/Detail.aspx?si=45567\n\nVisit Alexandria Board Executive Committee Reg
 ular Meeting. \n\nLocation: Visit Alexandria Offices\nContact Person: Pat
 ricia Washington\nContact Phone: 703.652.5362\nAudience: Anyone may atten
 d\nTags: Boards & Commissions\, Business Development\, Commission Meeting
 \, King Street\, Tourism\, Washington Street\n\nWeb resources:\n\nVisit A
 lexandria\nhttps://www.visitalexandriava.com/\n
DTEND:20221003T220000Z
DTSTAMP:20220928T190549Z
DTSTART:20221003T210000Z
LOCATION:Visit Alexandria Offices
SEQUENCE:7
STATUS:CANCELLED
SUMMARY:CANCELLED: Visit Alexandria Board Executive Committee Mtg.
TRANSP:TRANSPARENT
UID:b702b541-f6a0-4a6f-8290-60daf49b1e0a
URL:https://www.visitalexandriava.com/
X-ALT-DESC;FMTTYPE=text/html:To verify info please see <a href="https://ap
 ps.alexandriava.gov/Calendar/Detail.aspx?si=45567">https://apps.alexandri
 ava.gov/Calendar/Detail.aspx?si=45567</a><br />\n<br />Visit Alexandria B
 oard Executive Committee Regular Meeting. \n<br />\n<br />Location: Visit
  Alexandria Offices\n<br />Contact Person: Patricia Washington\n<br />Con
 tact Phone: 703.652.5362\n<br />Audience: Anyone may attend\n<br />Tags: 
 Boards &amp\; Commissions\, Business Development\, Commission Meeting\, K
 ing Street\, Tourism\, Washington Street<br>\n<a href="https://www.visita
 lexandriava.com/">Visit Alexandria</a><br>\n
X-COA-DTSTAMP:20220928T190549Z
END:VEVENT
END:VCALENDAR
