BEGIN:VCALENDAR
CALSCALE:GREGORIAN
METHOD:PUBLISH
PRODID:-//github.com/ical-org/ical.net//NONSGML ical.net 4.0//EN
VERSION:2.0
X-WR-TIMEZONE:US/Eastern
BEGIN:VEVENT
CATEGORIES:Cablecast
CATEGORIES:City Council
CATEGORIES:City Council Calendar
CATEGORIES:City Council Public Comment Opportunity
CATEGORIES:City Hall
CATEGORIES:Council Meeting
CATEGORIES:Live Closed Captioning
CATEGORIES:Webcast
DESCRIPTION:To verify info please see https://apps.alexandriava.gov/Calend
 ar/Detail.aspx?si=44441\n\nThe June 27\, 2023 Legislative Meeting of the 
 Alexandria City Council is being held in the Council Chamber (301 King St
 reet\, Alexandria\, Virginia\, 22314) and electronically. Members of City
  Council and staff are participating either in-person or from a remote lo
 cation through video conference call on Zoom webinar. The meeting can be 
 accessed by government channel 70\, streaming on the City's website\, and
 \ncan be accessed via Zoom by the following link:\n\nWebinar ID: 942 6549
  6617\nWebinar Passcode:  699464\nDial-in number: 301-715-8592\nRegistrat
 ion : https://zoom.us/webinar/register/WN_8mUpSnqzRSOw50Ild0otwg\n\nIf yo
 u use the Zoom webinar application\, please be sure you have updated the 
 application to the latest version for the best results. If you are unable
  to access the Zoom webinar\, please use the Dial-In number to access the
  meeting.\n\n***PLEASE LOG-IN EARLY IF POSSIBLE***\n\nLinks:\nMeeting Age
 nda and Live Webcast\n\nThe meeting will be webcast live and video and au
 dio recordings will be available a few days after the meeting.\n\nZoom Re
 gistration Form\nIf you wish to use Zoom to watch the meeting or to addre
 ss Council\, you must register first.\n\nSpeaker's Form\nhttps://survey.a
 lexandriava.gov/s3/City-Council-Speakers-Form\n\nThose wishing to address
  Council should submit a Speaker's Form (see above).\n\nSubmission of wri
 tten statements is encouraged. Please sign up after the docket is created
  and posted and you are able to verify the meeting date on the City's web
 site.\nIf the docket is not posted\, you will have to return at a later d
 ate to complete the speaker's form in order to speak at a Council meeting
 .\n\nTHERE IS PUBLIC COMMENT ON ITEM #7 ONLY!\n\nAll persons wishing to s
 peak before City Council must complete a Speaker's Form. If You have prep
 ared statement or a written comments for the record you may email it to t
 he City Clerk at CouncilComment@alexandriava.gov.\n\nSpeakers are encoura
 ged to submit their written comments to the City Clerk.\n\n*****\nIndivid
 uals requiring translation services should contact the City Clerk and Cle
 rk of Council at gloria.sitton@alexandriava.gov or at 703.746.4550. We re
 quest that you provide a 48-hour notice so that the proper arrangements m
 ay be made. Please specify the language for translation when you make the
  request.\n\nLas personas que requieran servicios de traducci?n deben com
 unicarse con el Secretario de la Ciudad y el Secretario del Consejo en gl
 oria.sitton@alexandriava.gov o al 703.746.4550. Le solicitamos que propor
 cione un aviso de 48 horas para que se puedan hacer los arreglos necesari
 os. Por favor\, especifique el idioma de traducci?n cuando realice la sol
 icitud.\n\n\n*****\n\nLocation: City Hall\, Council Chamber\, 301 King St
 .\nContact Person: Gloria Sitton\nContact Phone: 703.746.4500\nContact Em
 ail: gloria.sitton@alexandriava.gov\nAudience: Anyone may attend\nTags: C
 ablecast\, City Council\, City Council Calendar\, City Council Public Com
 ment Opportunity\, City Hall\, Council Meeting\, Live Closed Captioning\,
  Webcast\n\nWeb resources:\n\nMeeting Agenda\nhttps://legistar.granicus.c
 om/alexandria/meetings/2023/6/2433_A_City_Council_Legislative_Meeting_23-
 06-27_Docket.pdf\n\nSpeaker's Form\nhttps://survey.alexandriava.gov/s3/20
 20-VIRTUAL-City-Council-Speakers-Form\n
DTEND:20230628T033000Z
DTSTAMP:20230620T220321Z
DTSTART:20230627T213000Z
GEO:38.805393;-77.043273
LOCATION:City Hall\, Council Chamber\, 301 King St.
SEQUENCE:8
STATUS:CONFIRMED
SUMMARY:City Council Second Legislative Meeting
TRANSP:TRANSPARENT
UID:71a763ec-9ce7-4102-afb5-994a8acc0d90
URL:https://legistar.granicus.com/alexandria/meetings/2023/6/2433_A_City_C
 ouncil_Legislative_Meeting_23-06-27_Docket.pdf
X-ALT-DESC;FMTTYPE=text/html:To verify info please see <a href="https://ap
 ps.alexandriava.gov/Calendar/Detail.aspx?si=44441">https://apps.alexandri
 ava.gov/Calendar/Detail.aspx?si=44441</a><br />\n<br />The June 27\, 2023
  Legislative Meeting of the Alexandria City Council is being held in the 
 Council Chamber (301 King Street\, Alexandria\, Virginia\, 22314) and ele
 ctronically. Members of City Council and staff are participating either i
 n-person or from a remote location through video conference call on Zoom 
 webinar. The meeting can be accessed by government channel 70\, streaming
  on the City&#39\;s website\, and\n<br />can be accessed via Zoom by the 
 following link:\n<br />\n<br />Webinar ID: 942 6549 6617\n<br />Webinar P
 asscode:  699464\n<br />Dial-in number: 301-715-8592\n<br />Registration 
 : https://zoom.us/webinar/register/WN_8mUpSnqzRSOw50Ild0otwg\n<br />\n<br
  />If you use the Zoom webinar application\, please be sure you have upda
 ted the application to the latest version for the best results. If you ar
 e unable to access the Zoom webinar\, please use the Dial-In number to ac
 cess the meeting.\n<br />\n<br />***PLEASE LOG-IN EARLY IF POSSIBLE***\n<
 br />\n<br />Links:\n<br />Meeting Agenda and Live Webcast\n<br />\n<br /
 >The meeting will be webcast live and video and audio recordings will be 
 available a few days after the meeting.\n<br />\n<br />Zoom Registration 
 Form\n<br />If you wish to use Zoom to watch the meeting or to address Co
 uncil\, you must register first.\n<br />\n<br />Speaker&#39\;s Form\n<br 
 /><a href="https://survey.alexandriava.gov/s3/City-Council-Speakers-Form"
 >https://survey.alexandriava.gov/s3/City-Council-Speakers-Form</a><br />\
 n<br />Those wishing to address Council should submit a Speaker&#39\;s Fo
 rm (see above).\n<br />\n<br />Submission of written statements is encour
 aged. Please sign up after the docket is created and posted and you are a
 ble to verify the meeting date on the City&#39\;s website.\n<br />If the 
 docket is not posted\, you will have to return at a later date to complet
 e the speaker&#39\;s form in order to speak at a Council meeting.\n<br />
 \n<br />THERE IS PUBLIC COMMENT ON ITEM #7 ONLY!\n<br />\n<br />All perso
 ns wishing to speak before City Council must complete a Speaker&#39\;s Fo
 rm. If You have prepared statement or a written comments for the record y
 ou may email it to the City Clerk at CouncilComment@alexandriava.gov.\n<b
 r />\n<br />Speakers are encouraged to submit their written comments to t
 he City Clerk.\n<br />\n<br />*****\n<br />Individuals requiring translat
 ion services should contact the City Clerk and Clerk of Council at gloria
 .sitton@alexandriava.gov or at 703.746.4550. We request that you provide 
 a 48-hour notice so that the proper arrangements may be made. Please spec
 ify the language for translation when you make the request.\n<br />\n<br 
 />Las personas que requieran servicios de traducci&#243\;n deben comunica
 rse con el Secretario de la Ciudad y el Secretario del Consejo en gloria.
 sitton@alexandriava.gov o al 703.746.4550. Le solicitamos que proporcione
  un aviso de 48 horas para que se puedan hacer los arreglos necesarios. P
 or favor\, especifique el idioma de traducci&#243\;n cuando realice la so
 licitud.\n<br />\n<br />\n<br />*****\n<br />\n<br />Location: City Hall\
 , Council Chamber\, 301 King St.\n<br />Contact Person: Gloria Sitton\n<b
 r />Contact Phone: 703.746.4500\n<br />Contact Email: gloria.sitton@alexa
 ndriava.gov\n<br />Audience: Anyone may attend\n<br />Tags: Cablecast\, C
 ity Council\, City Council Calendar\, City Council Public Comment Opportu
 nity\, City Hall\, Council Meeting\, Live Closed Captioning\, Webcast<br>
 \n<a href="https://legistar.granicus.com/alexandria/meetings/2023/6/2433_
 A_City_Council_Legislative_Meeting_23-06-27_Docket.pdf">Meeting Agenda</a
 ><br>\n<a href="https://survey.alexandriava.gov/s3/2020-VIRTUAL-City-Coun
 cil-Speakers-Form">Speaker&#39\;s Form</a><br>\n
X-COA-DTSTAMP:20230620T220321Z
END:VEVENT
END:VCALENDAR
