BEGIN:VCALENDAR
CALSCALE:GREGORIAN
METHOD:PUBLISH
PRODID:-//github.com/ical-org/ical.net//NONSGML ical.net 4.0//EN
VERSION:2.0
X-WR-TIMEZONE:US/Eastern
BEGIN:VEVENT
CATEGORIES:Cablecast
CATEGORIES:City Council
CATEGORIES:City Council Calendar
CATEGORIES:City Council Public Comment Opportunity
CATEGORIES:City Hall
CATEGORIES:Council Meeting
CATEGORIES:Live Closed Captioning
CATEGORIES:Webcast
DESCRIPTION:To verify info please see https://apps.alexandriava.gov/Calend
 ar/Detail.aspx?si=44440\n\nThe May 23\, 2023 Legislative Meeting of the A
 lexandria City Council is being held in the Council Chamber (301 King Str
 eet\, Alexandria\, Virginia\, 22314) and electronically. Members of City 
 Council and staff are participating either in-person or from a remote loc
 ation through video conference call on Zoom webinar. The meeting can be a
 ccessed by government channel 70\, streaming on the City's website\, and\
 ncan be accessed via Zoom by the following link:\n\nRegistration :  https
 ://zoom.us/webinar/register/WN_Be-woHphSiO7Y4O7Y988Ig \nWebinar ID: 994 0
 972 9961\nWebinar Passcode:  347645\nDial-in number: 301-715-8592\n\nIf y
 ou use the Zoom webinar application\, please be sure you have updated the
  application to the latest version for the best results. If you are unabl
 e to access the Zoom webinar\, please use the Dial-In number to access th
 e meeting.\n\n***PLEASE LOG-IN EARLY IF POSSIBLE***\n\nLinks:\nMeeting Ag
 enda and Live Webcast\n\nThe meeting will be webcast live and video and a
 udio recordings will be available a few days after the meeting.\n\nZoom R
 egistration Form\nIf you wish to use Zoom to watch the meeting or to addr
 ess Council\, you must register first.\n\nSpeaker's Form\nhttps://survey.
 alexandriava.gov/s3/City-Council-Speakers-Form\n\nThose wishing to addres
 s Council should submit a Speaker's Form (see above).\n\nSubmission of wr
 itten statements is encouraged. Please sign up after the docket is create
 d and posted and you are able to verify the meeting date on the City's we
 bsite.\nIf the docket is not posted\, you will have to return at a later 
 date to complete the speaker's form in order to speak at a Council meetin
 g.\n\nPublic Comment will be received at this meeting on item #14 only!\n
 \nAll persons wishing to speak before City Council must complete a Speake
 r's Form. If You have prepared statement or a written comments for the re
 cord you may email it to the City Clerk at CouncilComment@alexandriava.go
 v.\n\nSpeakers are encouraged to submit their written comments to the Cit
 y Clerk.\n\nLocation: City Hall\, Council Chamber\, 301 King St.\nContact
  Person: Gloria Sitton\nContact Phone: 703.746.4500\nContact Email: glori
 a.sitton@alexandriava.gov\nAudience: Anyone may attend\nTags: Cablecast\,
  City Council\, City Council Calendar\, City Council Public Comment Oppor
 tunity\, City Hall\, Council Meeting\, Live Closed Captioning\, Webcast\n
 \nWeb resources:\n\nMeeting Agenda\nhttps://legistar.granicus.com/alexand
 ria/meetings/2023/5/2384_A_City_Council_Legislative_Meeting_23-05-23_Dock
 et.pdf\n\nSpeaker's Form\nhttps://survey.alexandriava.gov/s3/City-Council
 -Speakers-Form\n
DTEND:20230524T030000Z
DTSTAMP:20230517T212835Z
DTSTART:20230523T220000Z
GEO:38.805393;-77.043273
LOCATION:City Hall\, Council Chamber\, 301 King St.
SEQUENCE:6
STATUS:CONFIRMED
SUMMARY:City Council Second Legislative Meeting
TRANSP:TRANSPARENT
UID:547c9c27-50a8-4281-8fa1-6248430ba8f7
URL:https://legistar.granicus.com/alexandria/meetings/2023/5/2384_A_City_C
 ouncil_Legislative_Meeting_23-05-23_Docket.pdf
X-ALT-DESC;FMTTYPE=text/html:To verify info please see <a href="https://ap
 ps.alexandriava.gov/Calendar/Detail.aspx?si=44440">https://apps.alexandri
 ava.gov/Calendar/Detail.aspx?si=44440</a><br />\n<br />The May 23\, 2023 
 Legislative Meeting of the Alexandria City Council is being held in the C
 ouncil Chamber (301 King Street\, Alexandria\, Virginia\, 22314) and elec
 tronically. Members of City Council and staff are participating either in
 -person or from a remote location through video conference call on Zoom w
 ebinar. The meeting can be accessed by government channel 70\, streaming 
 on the City&#39\;s website\, and\n<br />can be accessed via Zoom by the f
 ollowing link:\n<br />\n<br />Registration :  https://zoom.us/webinar/reg
 ister/WN_Be-woHphSiO7Y4O7Y988Ig \n<br />Webinar ID: 994 0972 9961\n<br />
 Webinar Passcode:  347645\n<br />Dial-in number: 301-715-8592\n<br />\n<b
 r />If you use the Zoom webinar application\, please be sure you have upd
 ated the application to the latest version for the best results. If you a
 re unable to access the Zoom webinar\, please use the Dial-In number to a
 ccess the meeting.\n<br />\n<br />***PLEASE LOG-IN EARLY IF POSSIBLE***\n
 <br />\n<br />Links:\n<br />Meeting Agenda and Live Webcast\n<br />\n<br 
 />The meeting will be webcast live and video and audio recordings will be
  available a few days after the meeting.\n<br />\n<br />Zoom Registration
  Form\n<br />If you wish to use Zoom to watch the meeting or to address C
 ouncil\, you must register first.\n<br />\n<br />Speaker&#39\;s Form\n<br
  /><a href="https://survey.alexandriava.gov/s3/City-Council-Speakers-Form
 ">https://survey.alexandriava.gov/s3/City-Council-Speakers-Form</a><br />
 \n<br />Those wishing to address Council should submit a Speaker&#39\;s F
 orm (see above).\n<br />\n<br />Submission of written statements is encou
 raged. Please sign up after the docket is created and posted and you are 
 able to verify the meeting date on the City&#39\;s website.\n<br />If the
  docket is not posted\, you will have to return at a later date to comple
 te the speaker&#39\;s form in order to speak at a Council meeting.\n<br /
 >\n<br />Public Comment will be received at this meeting on item #14 only
 !\n<br />\n<br />All persons wishing to speak before City Council must co
 mplete a Speaker&#39\;s Form. If You have prepared statement or a written
  comments for the record you may email it to the City Clerk at CouncilCom
 ment@alexandriava.gov.\n<br />\n<br />Speakers are encouraged to submit t
 heir written comments to the City Clerk.\n<br />\n<br />Location: City Ha
 ll\, Council Chamber\, 301 King St.\n<br />Contact Person: Gloria Sitton\
 n<br />Contact Phone: 703.746.4500\n<br />Contact Email: gloria.sitton@al
 exandriava.gov\n<br />Audience: Anyone may attend\n<br />Tags: Cablecast\
 , City Council\, City Council Calendar\, City Council Public Comment Oppo
 rtunity\, City Hall\, Council Meeting\, Live Closed Captioning\, Webcast<
 br>\n<a href="https://legistar.granicus.com/alexandria/meetings/2023/5/23
 84_A_City_Council_Legislative_Meeting_23-05-23_Docket.pdf">Meeting Agenda
 </a><br>\n<a href="https://survey.alexandriava.gov/s3/City-Council-Speake
 rs-Form">Speaker&#39\;s Form</a><br>\n
X-COA-DTSTAMP:20230517T212835Z
END:VEVENT
END:VCALENDAR
