BEGIN:VCALENDAR
CALSCALE:GREGORIAN
METHOD:PUBLISH
PRODID:-//github.com/ical-org/ical.net//NONSGML ical.net 4.0//EN
VERSION:2.0
X-WR-TIMEZONE:US/Eastern
BEGIN:VEVENT
CATEGORIES:Cablecast
CATEGORIES:City Council
CATEGORIES:City Council Calendar
CATEGORIES:City Council Public Comment Opportunity
CATEGORIES:City Hall
CATEGORIES:Council Meeting
CATEGORIES:Live Closed Captioning
CATEGORIES:Webcast
DESCRIPTION:To verify info please see https://apps.alexandriava.gov/Calend
 ar/Detail.aspx?si=44436\n\nThe January 24\, 2023 Legislative Meeting of t
 he Alexandria City Council is being held in the Council Chamber (301 King
  Street\, Alexandria\, Virginia\, 22314) and electronically. Members of C
 ity Council and staff are participating either in-person or from a remote
  location through video conference call on Zoom webinar. The meeting can 
 be accessed by government channel 70\, streaming on the City's website\, 
 and can be accessed via Zoom by the following link:\n\nRegistration : htt
 ps://zoom.us/webinar/register/WN_rLhy1qRTSkOMECeosT2JjA\nWebinar ID: 986 
 0689 2172\nWebinar Passcode: 634055\nDial-in number: 301-715-8592\n\n\nIf
  you use the Zoom webinar application\, please be sure you have updated t
 he application to the latest version for the best results. If you are una
 ble to access the Zoom webinar\, please use the Dial-In number to access 
 the meeting.\n\n***PLEASE LOG-IN EARLY IF POSSIBLE***\n\nLinks:\n\nMeetin
 g Agenda and Live Webcast\n\nThe meeting will be webcast live and video a
 nd audio recordings will be available a few days after the meeting.\n\nZo
 om Registration Form\n\nIf you wish to use Zoom to watch the meeting or t
 o address Council\, you must register first. Those wishing to address Cou
 ncil should also submit a Speaker's Form using the link below.\n\nSpeaker
 's Form\nhttps://survey.alexandriava.gov/s3/2020-VIRTUAL-City-Council-Spe
 akers-Form\n\nSubmission of written statements is encouraged. Please sign
  up after the docket is created and posted and you are able to verify the
  meeting date on the City's website.  If the docket is not posted\, you w
 ill have to return at a later date to complete the speaker's form in orde
 r to speak at a Council meeting.\n\nPublic Comment will be received at th
 is meeting for item #12 ONLY.\n\nAll persons wishing to speak before City
  Council must complete a Speaker's Form. If you have prepared statement o
 r a written comments for the record you may email it to the City Clerk at
  CouncilComment@alexandriava.gov.\n\nSpeakers are encouraged to submit th
 eir written comments to the City Clerk for the record.\n\n******\nIndivid
 uals requiring translation services should contact the City Clerk and Cle
 rk of Council at gloria.sitton@alexandriava.gov or at 703.746.4550. We re
 quest that you provide a 48-hour notice so that the proper arrangements m
 ay be made. Please specify the language for translation when you make the
  request.\n\nLas personas que requieran servicios de traducci?n deben com
 unicarse con el Secretario de la Ciudad y el Secretario del Consejo en gl
 oria.sitton@alexandriava.gov o al 703.746.4550. Le solicitamos que propor
 cione un aviso de 48 horas para que se puedan hacer los arreglos necesari
 os. Por favor\, especifique el idioma de traducci?n cuando realice la sol
 icitud.\n\n\n******\n\nLocation: City Hall\, Council Chamber\, 301 King S
 t.\nContact Person: Gloria Sitton\nContact Phone: 703.746.4500\nContact E
 mail: gloria.sitton@alexandriava.gov\nAudience: Anyone may attend\nTags: 
 Cablecast\, City Council\, City Council Calendar\, City Council Public Co
 mment Opportunity\, City Hall\, Council Meeting\, Live Closed Captioning\
 , Webcast\n\nWeb resources:\n\nMeeting Agenda\nhttps://legistar.granicus.
 com/alexandria/meetings/2023/1/2360_A_City_Council_Legislative_Meeting_23
 -01-24_Docket.pdf?id=da7cf46c-bd68-4235-861c-9632cc225ce3\n\nSpeaker's Fo
 rm\nhttps://survey.alexandriava.gov/s3/2020-VIRTUAL-City-Council-Speakers
 -Form\n
DTEND:20230125T030000Z
DTSTAMP:20230124T135744Z
DTSTART:20230124T230000Z
GEO:38.805393;-77.043273
LOCATION:City Hall\, Council Chamber\, 301 King St.
SEQUENCE:8
STATUS:CONFIRMED
SUMMARY:City Council Second Legislative Meeting
TRANSP:TRANSPARENT
UID:32a6c979-1127-4f81-b143-0fee415f564e
URL:https://legistar.granicus.com/alexandria/meetings/2023/1/2360_A_City_C
 ouncil_Legislative_Meeting_23-01-24_Docket.pdf?id=da7cf46c-bd68-4235-861c
 -9632cc225ce3
X-ALT-DESC;FMTTYPE=text/html:To verify info please see <a href="https://ap
 ps.alexandriava.gov/Calendar/Detail.aspx?si=44436">https://apps.alexandri
 ava.gov/Calendar/Detail.aspx?si=44436</a><br />\n<br />The January 24\, 2
 023 Legislative Meeting of the Alexandria City Council is being held in t
 he Council Chamber (301 King Street\, Alexandria\, Virginia\, 22314) and 
 electronically. Members of City Council and staff are participating eithe
 r in-person or from a remote location through video conference call on Zo
 om webinar. The meeting can be accessed by government channel 70\, stream
 ing on the City&#39\;s website\, and can be accessed via Zoom by the foll
 owing link:\n<br />\n<br />Registration : https://zoom.us/webinar/registe
 r/WN_rLhy1qRTSkOMECeosT2JjA\n<br />Webinar ID: 986 0689 2172\n<br />Webin
 ar Passcode: 634055\n<br />Dial-in number: 301-715-8592\n<br />\n<br />\n
 <br />If you use the Zoom webinar application\, please be sure you have u
 pdated the application to the latest version for the best results. If you
  are unable to access the Zoom webinar\, please use the Dial-In number to
  access the meeting.\n<br />\n<br />***PLEASE LOG-IN EARLY IF POSSIBLE***
 \n<br />\n<br />Links:\n<br />\n<br />Meeting Agenda and Live Webcast\n<b
 r />\n<br />The meeting will be webcast live and video and audio recordin
 gs will be available a few days after the meeting.\n<br />\n<br />Zoom Re
 gistration Form\n<br />\n<br />If you wish to use Zoom to watch the meeti
 ng or to address Council\, you must register first. Those wishing to addr
 ess Council should also submit a Speaker&#39\;s Form using the link below
 .\n<br />\n<br />Speaker&#39\;s Form\n<br /><a href="https://survey.alexa
 ndriava.gov/s3/2020-VIRTUAL-City-Council-Speakers-Form">https://survey.al
 exandriava.gov/s3/2020-VIRTUAL-City-Council-Speakers-Form</a><br />\n<br 
 />Submission of written statements is encouraged. Please sign up after th
 e docket is created and posted and you are able to verify the meeting dat
 e on the City&#39\;s website.  If the docket is not posted\, you will hav
 e to return at a later date to complete the speaker&#39\;s form in order 
 to speak at a Council meeting.\n<br />\n<br />Public Comment will be rece
 ived at this meeting for item #12 ONLY.\n<br />\n<br />All persons wishin
 g to speak before City Council must complete a Speaker&#39\;s Form. If yo
 u have prepared statement or a written comments for the record you may em
 ail it to the City Clerk at CouncilComment@alexandriava.gov.\n<br />\n<br
  />Speakers are encouraged to submit their written comments to the City C
 lerk for the record.\n<br />\n<br />******\n<br />Individuals requiring t
 ranslation services should contact the City Clerk and Clerk of Council at
  gloria.sitton@alexandriava.gov or at 703.746.4550. We request that you p
 rovide a 48-hour notice so that the proper arrangements may be made. Plea
 se specify the language for translation when you make the request.\n<br /
 >\n<br />Las personas que requieran servicios de traducci&#243\;n deben c
 omunicarse con el Secretario de la Ciudad y el Secretario del Consejo en 
 gloria.sitton@alexandriava.gov o al 703.746.4550. Le solicitamos que prop
 orcione un aviso de 48 horas para que se puedan hacer los arreglos necesa
 rios. Por favor\, especifique el idioma de traducci&#243\;n cuando realic
 e la solicitud.\n<br />\n<br />\n<br />******\n<br />\n<br />Location: Ci
 ty Hall\, Council Chamber\, 301 King St.\n<br />Contact Person: Gloria Si
 tton\n<br />Contact Phone: 703.746.4500\n<br />Contact Email: gloria.sitt
 on@alexandriava.gov\n<br />Audience: Anyone may attend\n<br />Tags: Cable
 cast\, City Council\, City Council Calendar\, City Council Public Comment
  Opportunity\, City Hall\, Council Meeting\, Live Closed Captioning\, Web
 cast<br>\n<a href="https://legistar.granicus.com/alexandria/meetings/2023
 /1/2360_A_City_Council_Legislative_Meeting_23-01-24_Docket.pdf?id=da7cf46
 c-bd68-4235-861c-9632cc225ce3">Meeting Agenda</a><br>\n<a href="https://s
 urvey.alexandriava.gov/s3/2020-VIRTUAL-City-Council-Speakers-Form">Speake
 r&#39\;s Form</a><br>\n
X-COA-DTSTAMP:20230124T135744Z
END:VEVENT
END:VCALENDAR
