BEGIN:VCALENDAR
CALSCALE:GREGORIAN
METHOD:PUBLISH
PRODID:-//github.com/ical-org/ical.net//NONSGML ical.net 4.0//EN
VERSION:2.0
X-WR-TIMEZONE:US/Eastern
BEGIN:VEVENT
CATEGORIES:Cablecast
CATEGORIES:City Council
CATEGORIES:City Council Calendar
CATEGORIES:City Council Public Comment Opportunity
CATEGORIES:City Hall
CATEGORIES:Council Meeting
CATEGORIES:Live Closed Captioning
CATEGORIES:Webcast
DESCRIPTION:To verify info please see https://apps.alexandriava.gov/Calend
 ar/Detail.aspx?si=44435\n\nThe November 22\, 2022 Legislative Meeting of 
 the Alexandria City Council is being held in the Council Chamber (301 Kin
 g Street\, Alexandria\, Virginia\, 22314) and electronically. Members of 
 City Council and staff are participating either in-person or from a remot
 e location through video conference call on Zoom webinar. The meeting can
  be accessed by government channel 70\, streaming on the City's website\,
  and can be accessed via Zoom by the following link:\n\nRegistration : ht
 tps://zoom.us/webinar/register/WN_jyeVYbm1Sk-jRCt9te3aOg\nWebinar ID: 945
  0982 7226\nWebinar Passcode: 353341\nDial-in number: 301-715-8592\n\nIf 
 you use the Zoom webinar application\, please be sure you have updated th
 e application to the latest version for the best results. If you are unab
 le to access the Zoom webinar\, please use the Dial-In number to access t
 he meeting.\n\n***PLEASE LOG-IN EARLY IF POSSIBLE***\n\nLinks:\n\nMeeting
  Agenda and Live Webcast\nThe meeting will be webcast live and video and 
 audio recordings will be available a few days after the meeting.\n\nZoom 
 Registration Form\nIf you wish to use Zoom to watch the meeting or to add
 ress Council\, you must register first. Those wishing to address Council 
 should also submit a Speaker's Form using the link below.\n\nSpeaker's Fo
 rm\nhttps://survey.alexandriava.gov/s3/2020-VIRTUAL-City-Council-Speakers
 -Form\n\nThose wishing to address Council should submit a Speaker's Form 
 (see above).\n\nSubmission of written statements is encouraged. Please si
 gn up after the docket is created and posted and you are able to verify t
 he meeting date on the City's website.\nIf the docket is not posted\, you
  will have to return at a later date to complete the speaker's form in or
 der to speak at a Council meeting.\n\nPublic Comment will be received at 
 this meeting for item # 9 ONLY.\n\nAll persons wishing to speak before Ci
 ty Council must complete a Speaker's Form. If You have prepared statement
  or a written comments for the record you may email it to the City Clerk 
 at CouncilComment@alexandriava.gov.\n\nSpeakers are encouraged to submit 
 their written comments to the City Clerk.\n\n*****\nIndividuals requiring
  translation services should contact the City Clerk and Clerk of Council 
 at gloria.sitton@alexandriava.gov or at 703.746.4550. We request that you
  provide a 48-hour notice so that the proper arrangements may be made. Pl
 ease specify the language for translation when you make the request.\n\nL
 as personas que requieran servicios de traducci?n deben comunicarse con e
 l Secretario de la Ciudad y el Secretario del Consejo en gloria.sitton@al
 exandriava.gov o al 703.746.4550. Le solicitamos que proporcione un aviso
  de 48 horas para que se puedan hacer los arreglos necesarios. Por favor\
 , especifique el idioma de traducci?n cuando realice la solicitud.\n\nLoc
 ation: City Hall\, Council Chamber\, 301 King St.\nContact Person: Gloria
  Sitton\nContact Phone: 703.746.4500\nContact Email: gloria.sitton@alexan
 driava.gov\nAudience: Anyone may attend\nTags: Cablecast\, City Council\,
  City Council Calendar\, City Council Public Comment Opportunity\, City H
 all\, Council Meeting\, Live Closed Captioning\, Webcast\n\nWeb resources
 :\n\nMeeting Agenda\nhttps://legistar.granicus.com/alexandria/meetings/20
 22/11/2352_A_City_Council_Legislative_Meeting_22-11-22_Docket.pdf?id=c93a
 8b43-88d3-46b8-ac0d-a8889299764a\n\nSpeaker form \nhttps://survey.alexand
 riava.gov/s3/2020-VIRTUAL-City-Council-Speakers-Form\n
DTEND:20221123T010000Z
DTSTAMP:20221116T221824Z
DTSTART:20221122T230000Z
GEO:38.805393;-77.043273
LOCATION:City Hall\, Council Chamber\, 301 King St.
SEQUENCE:7
STATUS:CONFIRMED
SUMMARY:City Council Second Legislative Meeting
TRANSP:TRANSPARENT
UID:90a024c6-e206-49b7-ab11-2b6b16ed66a1
URL:https://legistar.granicus.com/alexandria/meetings/2022/11/2352_A_City_
 Council_Legislative_Meeting_22-11-22_Docket.pdf?id=c93a8b43-88d3-46b8-ac0
 d-a8889299764a
X-ALT-DESC;FMTTYPE=text/html:To verify info please see <a href="https://ap
 ps.alexandriava.gov/Calendar/Detail.aspx?si=44435">https://apps.alexandri
 ava.gov/Calendar/Detail.aspx?si=44435</a><br />\n<br />The November 22\, 
 2022 Legislative Meeting of the Alexandria City Council is being held in 
 the Council Chamber (301 King Street\, Alexandria\, Virginia\, 22314) and
  electronically. Members of City Council and staff are participating eith
 er in-person or from a remote location through video conference call on Z
 oom webinar. The meeting can be accessed by government channel 70\, strea
 ming on the City&#39\;s website\, and can be accessed via Zoom by the fol
 lowing link:\n<br />\n<br />Registration : https://zoom.us/webinar/regist
 er/WN_jyeVYbm1Sk-jRCt9te3aOg\n<br />Webinar ID: 945 0982 7226\n<br />Webi
 nar Passcode: 353341\n<br />Dial-in number: 301-715-8592\n<br />\n<br />I
 f you use the Zoom webinar application\, please be sure you have updated 
 the application to the latest version for the best results. If you are un
 able to access the Zoom webinar\, please use the Dial-In number to access
  the meeting.\n<br />\n<br />***PLEASE LOG-IN EARLY IF POSSIBLE***\n<br /
 >\n<br />Links:\n<br />\n<br />Meeting Agenda and Live Webcast\n<br />The
  meeting will be webcast live and video and audio recordings will be avai
 lable a few days after the meeting.\n<br />\n<br />Zoom Registration Form
 \n<br />If you wish to use Zoom to watch the meeting or to address Counci
 l\, you must register first. Those wishing to address Council should also
  submit a Speaker&#39\;s Form using the link below.\n<br />\n<br />Speake
 r&#39\;s Form\n<br /><a href="https://survey.alexandriava.gov/s3/2020-VIR
 TUAL-City-Council-Speakers-Form">https://survey.alexandriava.gov/s3/2020-
 VIRTUAL-City-Council-Speakers-Form</a><br />\n<br />Those wishing to addr
 ess Council should submit a Speaker&#39\;s Form (see above).\n<br />\n<br
  />Submission of written statements is encouraged. Please sign up after t
 he docket is created and posted and you are able to verify the meeting da
 te on the City&#39\;s website.\n<br />If the docket is not posted\, you w
 ill have to return at a later date to complete the speaker&#39\;s form in
  order to speak at a Council meeting.\n<br />\n<br />Public Comment will 
 be received at this meeting for item # 9 ONLY.\n<br />\n<br />All persons
  wishing to speak before City Council must complete a Speaker&#39\;s Form
 . If You have prepared statement or a written comments for the record you
  may email it to the City Clerk at CouncilComment@alexandriava.gov.\n<br 
 />\n<br />Speakers are encouraged to submit their written comments to the
  City Clerk.\n<br />\n<br />*****\n<br />Individuals requiring translatio
 n services should contact the City Clerk and Clerk of Council at gloria.s
 itton@alexandriava.gov or at 703.746.4550. We request that you provide a 
 48-hour notice so that the proper arrangements may be made. Please specif
 y the language for translation when you make the request.\n<br />\n<br />
 Las personas que requieran servicios de traducci&#243\;n deben comunicars
 e con el Secretario de la Ciudad y el Secretario del Consejo en gloria.si
 tton@alexandriava.gov o al 703.746.4550. Le solicitamos que proporcione u
 n aviso de 48 horas para que se puedan hacer los arreglos necesarios. Por
  favor\, especifique el idioma de traducci&#243\;n cuando realice la soli
 citud.\n<br />\n<br />Location: City Hall\, Council Chamber\, 301 King St
 .\n<br />Contact Person: Gloria Sitton\n<br />Contact Phone: 703.746.4500
 \n<br />Contact Email: gloria.sitton@alexandriava.gov\n<br />Audience: An
 yone may attend\n<br />Tags: Cablecast\, City Council\, City Council Cale
 ndar\, City Council Public Comment Opportunity\, City Hall\, Council Meet
 ing\, Live Closed Captioning\, Webcast<br>\n<a href="https://legistar.gra
 nicus.com/alexandria/meetings/2022/11/2352_A_City_Council_Legislative_Mee
 ting_22-11-22_Docket.pdf?id=c93a8b43-88d3-46b8-ac0d-a8889299764a">Meeting
  Agenda</a><br>\n<a href="https://survey.alexandriava.gov/s3/2020-VIRTUAL
 -City-Council-Speakers-Form">Speaker form </a><br>\n
X-COA-DTSTAMP:20221116T221824Z
END:VEVENT
END:VCALENDAR
