BEGIN:VCALENDAR
CALSCALE:GREGORIAN
METHOD:PUBLISH
PRODID:-//github.com/ical-org/ical.net//NONSGML ical.net 4.0//EN
VERSION:2.0
X-WR-TIMEZONE:US/Eastern
BEGIN:VEVENT
CATEGORIES:Cablecast
CATEGORIES:City Council
CATEGORIES:City Council Calendar
CATEGORIES:City Hall
CATEGORIES:Council Meeting
CATEGORIES:Live Closed Captioning
CATEGORIES:Webcast
DESCRIPTION:To verify info please see https://apps.alexandriava.gov/Calend
 ar/Detail.aspx?si=44430\n\nThe May 9\, 2023 Legislative Meeting of the Al
 exandria City Council is being held in the Council Chamber (301 King Stre
 et\, Alexandria\, Virginia\, 22314) and electronically. Members of City C
 ouncil and staff are participating either in-person or from a remote loca
 tion through video conference call on Zoom webinar. The meeting can be ac
 cessed by government channel 70\, streaming on the City's website\, and\n
 can be accessed via Zoom by the following link:\n\nRegistration :  https:
 //zoom.us/webinar/register/WN_rRtj03kiTm6f-nsqMJXaIw \nWebinar ID: 923 37
 63 9466\nWebinar Passcode:  512378\nDial-in number: 301-715-8592\n\nIf yo
 u use the Zoom webinar application\, please be sure you have updated the 
 application to the latest version for the best results. If you are unable
  to access the Zoom webinar\, please use the Dial-In number to access the
  meeting.\n\n***PLEASE LOG-IN EARLY IF POSSIBLE***\n\nLinks:\nMeeting Age
 nda and Live Webcast\n\nThe meeting will be webcast live and video and au
 dio recordings will be available a few days after the meeting.\n\nZoom Re
 gistration Form\nIf you wish to use Zoom to watch the meeting or to addre
 ss Council\, you must register first.\n\nSubmission of written statements
  is encouraged. Please sign up after the docket is created and posted and
  you are able to verify the meeting date on the City's website.\n\nIf you
  have prepared statement or a written comments for the record you may ema
 il it to the City Clerk at CouncilComment@alexandriava.gov.\n\n*****\nInd
 ividuals requiring translation services should contact the City Clerk and
  Clerk of Council at gloria.sitton@alexandriava.gov or at 703.746.4550. W
 e request that you provide a 48-hour notice so that the proper arrangemen
 ts may be made. Please specify the language for translation when you make
  the request.\n\nLas personas que requieran servicios de traducci?n deben
  comunicarse con el Secretario de la Ciudad y el Secretario del Consejo e
 n gloria.sitton@alexandriava.gov o al 703.746.4550. Le solicitamos que pr
 oporcione un aviso de 48 horas para que se puedan hacer los arreglos nece
 sarios. Por favor\,\nespecifique el idioma de traducci?n cuando realice l
 a solicitud.\n\n*****\n\nLocation: City Hall\, Council Chamber\, 301 King
  St.\nContact Person: Gloria Sitton\nContact Phone: 703.746.4500\nContact
  Email: gloria.sitton@alexandriava.gov\nAudience: Anyone may attend\nTags
 : Cablecast\, City Council\, City Council Calendar\, City Hall\, Council 
 Meeting\, Live Closed Captioning\, Webcast\n\nWeb resources:\n\nMeeting A
 genda\nhttps://legistar.granicus.com/alexandria/meetings/2023/5/2382_A_Ci
 ty_Council_Legislative_Meeting_23-05-09_Docket.pdf?id=9b5893b1-d6ca-4832-
 afa3-fc8cee72f03c\n
DTEND:20230510T030000Z
DTSTAMP:20230502T230941Z
DTSTART:20230509T220000Z
GEO:38.805393;-77.043273
LOCATION:City Hall\, Council Chamber\, 301 King St.
SEQUENCE:6
STATUS:CONFIRMED
SUMMARY:City Council First Legislative Meeting
TRANSP:TRANSPARENT
UID:d3927391-1c98-425c-b8bb-98db39ed780a
URL:https://legistar.granicus.com/alexandria/meetings/2023/5/2382_A_City_C
 ouncil_Legislative_Meeting_23-05-09_Docket.pdf?id=9b5893b1-d6ca-4832-afa3
 -fc8cee72f03c
X-ALT-DESC;FMTTYPE=text/html:To verify info please see <a href="https://ap
 ps.alexandriava.gov/Calendar/Detail.aspx?si=44430">https://apps.alexandri
 ava.gov/Calendar/Detail.aspx?si=44430</a><br />\n<br />The May 9\, 2023 L
 egislative Meeting of the Alexandria City Council is being held in the Co
 uncil Chamber (301 King Street\, Alexandria\, Virginia\, 22314) and elect
 ronically. Members of City Council and staff are participating either in-
 person or from a remote location through video conference call on Zoom we
 binar. The meeting can be accessed by government channel 70\, streaming o
 n the City&#39\;s website\, and\n<br />can be accessed via Zoom by the fo
 llowing link:\n<br />\n<br />Registration :  https://zoom.us/webinar/regi
 ster/WN_rRtj03kiTm6f-nsqMJXaIw \n<br />Webinar ID: 923 3763 9466\n<br />W
 ebinar Passcode:  512378\n<br />Dial-in number: 301-715-8592\n<br />\n<br
  />If you use the Zoom webinar application\, please be sure you have upda
 ted the application to the latest version for the best results. If you ar
 e unable to access the Zoom webinar\, please use the Dial-In number to ac
 cess the meeting.\n<br />\n<br />***PLEASE LOG-IN EARLY IF POSSIBLE***\n<
 br />\n<br />Links:\n<br />Meeting Agenda and Live Webcast\n<br />\n<br /
 >The meeting will be webcast live and video and audio recordings will be 
 available a few days after the meeting.\n<br />\n<br />Zoom Registration 
 Form\n<br />If you wish to use Zoom to watch the meeting or to address Co
 uncil\, you must register first.\n<br />\n<br />Submission of written sta
 tements is encouraged. Please sign up after the docket is created and pos
 ted and you are able to verify the meeting date on the City&#39\;s websit
 e.\n<br />\n<br />If you have prepared statement or a written comments fo
 r the record you may email it to the City Clerk at CouncilComment@alexand
 riava.gov.\n<br />\n<br />*****\n<br />Individuals requiring translation 
 services should contact the City Clerk and Clerk of Council at gloria.sit
 ton@alexandriava.gov or at 703.746.4550. We request that you provide a 48
 -hour notice so that the proper arrangements may be made. Please specify 
 the language for translation when you make the request.\n<br />\n<br />La
 s personas que requieran servicios de traducci&#243\;n deben comunicarse 
 con el Secretario de la Ciudad y el Secretario del Consejo en gloria.sitt
 on@alexandriava.gov o al 703.746.4550. Le solicitamos que proporcione un 
 aviso de 48 horas para que se puedan hacer los arreglos necesarios. Por f
 avor\,\n<br />especifique el idioma de traducci&#243\;n cuando realice la
  solicitud.\n<br />\n<br />*****\n<br />\n<br />Location: City Hall\, Cou
 ncil Chamber\, 301 King St.\n<br />Contact Person: Gloria Sitton\n<br />C
 ontact Phone: 703.746.4500\n<br />Contact Email: gloria.sitton@alexandria
 va.gov\n<br />Audience: Anyone may attend\n<br />Tags: Cablecast\, City C
 ouncil\, City Council Calendar\, City Hall\, Council Meeting\, Live Close
 d Captioning\, Webcast<br>\n<a href="https://legistar.granicus.com/alexan
 dria/meetings/2023/5/2382_A_City_Council_Legislative_Meeting_23-05-09_Doc
 ket.pdf?id=9b5893b1-d6ca-4832-afa3-fc8cee72f03c">Meeting Agenda</a><br>\n
X-COA-DTSTAMP:20230502T230941Z
END:VEVENT
END:VCALENDAR
