BEGIN:VCALENDAR
CALSCALE:GREGORIAN
METHOD:PUBLISH
PRODID:-//github.com/ical-org/ical.net//NONSGML ical.net 4.0//EN
VERSION:2.0
X-WR-TIMEZONE:US/Eastern
BEGIN:VEVENT
CATEGORIES:Cablecast
CATEGORIES:City Council
CATEGORIES:City Council Calendar
CATEGORIES:City Hall
CATEGORIES:Council Meeting
CATEGORIES:Live Closed Captioning
CATEGORIES:Webcast
DESCRIPTION:To verify info please see https://apps.alexandriava.gov/Calend
 ar/Detail.aspx?si=44424\n\nThe November 9\, 2022 Legislative Meeting of t
 he Alexandria City Council is being held in the Council Chamber (301 King
  Street\, Alexandria\, Virginia\, 22314) and electronically.   Members of
  City Council and staff are participating either in-person or from remote
  locations through a video conference call on Zoom.  The meeting can be a
 ccessed by the public in the City Council Chamber\, through the live broa
 dcast on the government channel 70\, streaming on City's website\, and ca
 n be accessed via Zoom by the following link:\n\nRegistration : https://z
 oom.us/webinar/register/WN_8nKmnVjWSlqOmwaTJs15rA\nWebinar ID: 926 0919 5
 633\nWebinar Passcode: 828375\nDial-in number: 301-715-8592\n\nIf you use
  the Zoom webinar application\, please be sure you have updated the appli
 cation to the latest version for the best results.  If you are unable to 
 access Zoom\, please use the Dial-in number to access the meeting.\n\n***
 PLEASE LOG-IN EARLY IF POSSIBLE***\n\nLinks:\nMeeting Agenda and Live Web
 cast\nThe meeting will be webcast live and video and audio recordings wil
 l be available a few days after the meeting.\n\nZoom Registration\nIf you
  wish to use Zoom to watch the meeting\, you must register first.\n\n****
 **\nIf you have written comments for the record\, you may email it to the
  City Clerk at CouncilComment@alexandriava.gov\n\nIndividuals requiring t
 ranslation services should contact the CIty Clerk and Clerk of Council at
  gloria.sitton@alexandriava.gov or at 704.746.4550.  We request that you 
 provide 48-hour notice so that proper arrangements may be made.  Please s
 pecify the language for translation when you make the request.\n\n***Plea
 se note there will be an Executive Session beginning at 6:00 p.m.  The Co
 uncil meeting will begin at 7:00 p.m.\, or shortly thereafter\, following
  the conclusion of the Executive Session.***\n\n******\n\n\n\n\n\nLocatio
 n: City Hall\, Council Chamber\, 301 King St.\nContact Person: Gloria Sit
 ton\nContact Phone: 703.746.4500\nContact Email: gloria.sitton@alexandria
 va.gov\nAudience: Anyone may attend\nTags: Cablecast\, City Council\, Cit
 y Council Calendar\, City Hall\, Council Meeting\, Live Closed Captioning
 \, Webcast\n\nWeb resources:\n\nMeeting Agenda\nhttps://legistar.granicus
 .com/alexandria/meetings/2022/11/2341_A_City_Council_Legislative_Meeting_
 22-11-09_Docket.pdf?id=45551842-8a85-4124-bd52-6d8c1facc246\n
DTEND:20221110T030000Z
DTSTAMP:20221102T211619Z
DTSTART:20221109T230000Z
GEO:38.805393;-77.043273
LOCATION:City Hall\, Council Chamber\, 301 King St.
SEQUENCE:7
STATUS:CONFIRMED
SUMMARY:City Council First Legislative Meeting
TRANSP:TRANSPARENT
UID:ff4f124d-19ad-49c5-83df-56e61b1f2d37
URL:https://legistar.granicus.com/alexandria/meetings/2022/11/2341_A_City_
 Council_Legislative_Meeting_22-11-09_Docket.pdf?id=45551842-8a85-4124-bd5
 2-6d8c1facc246
X-ALT-DESC;FMTTYPE=text/html:To verify info please see <a href="https://ap
 ps.alexandriava.gov/Calendar/Detail.aspx?si=44424">https://apps.alexandri
 ava.gov/Calendar/Detail.aspx?si=44424</a><br />\n<br />The November 9\, 2
 022 Legislative Meeting of the Alexandria City Council is being held in t
 he Council Chamber (301 King Street\, Alexandria\, Virginia\, 22314) and 
 electronically.   Members of City Council and staff are participating eit
 her in-person or from remote locations through a video conference call on
  Zoom.  The meeting can be accessed by the public in the City Council Cha
 mber\, through the live broadcast on the government channel 70\, streamin
 g on City&#39\;s website\, and can be accessed via Zoom by the following 
 link:\n<br />\n<br />Registration : https://zoom.us/webinar/register/WN_8
 nKmnVjWSlqOmwaTJs15rA\n<br />Webinar ID: 926 0919 5633\n<br />Webinar Pas
 scode: 828375\n<br />Dial-in number: 301-715-8592\n<br />\n<br />If you u
 se the Zoom webinar application\, please be sure you have updated the app
 lication to the latest version for the best results.  If you are unable t
 o access Zoom\, please use the Dial-in number to access the meeting.\n<br
  />\n<br />***PLEASE LOG-IN EARLY IF POSSIBLE***\n<br />\n<br />Links:\n<
 br />Meeting Agenda and Live Webcast\n<br />The meeting will be webcast l
 ive and video and audio recordings will be available a few days after the
  meeting.\n<br />\n<br />Zoom Registration\n<br />If you wish to use Zoom
  to watch the meeting\, you must register first.\n<br />\n<br />******\n<
 br />If you have written comments for the record\, you may email it to th
 e City Clerk at CouncilComment@alexandriava.gov\n<br />\n<br />Individual
 s requiring translation services should contact the CIty Clerk and Clerk 
 of Council at gloria.sitton@alexandriava.gov or at 704.746.4550.  We requ
 est that you provide 48-hour notice so that proper arrangements may be ma
 de.  Please specify the language for translation when you make the reques
 t.\n<br />\n<br />***Please note there will be an Executive Session begin
 ning at 6:00 p.m.  The Council meeting will begin at 7:00 p.m.\, or short
 ly thereafter\, following the conclusion of the Executive Session.***\n<b
 r />\n<br />******\n<br />\n<br />\n<br />\n<br />\n<br />\n<br />Locatio
 n: City Hall\, Council Chamber\, 301 King St.\n<br />Contact Person: Glor
 ia Sitton\n<br />Contact Phone: 703.746.4500\n<br />Contact Email: gloria
 .sitton@alexandriava.gov\n<br />Audience: Anyone may attend\n<br />Tags: 
 Cablecast\, City Council\, City Council Calendar\, City Hall\, Council Me
 eting\, Live Closed Captioning\, Webcast<br>\n<a href="https://legistar.g
 ranicus.com/alexandria/meetings/2022/11/2341_A_City_Council_Legislative_M
 eeting_22-11-09_Docket.pdf?id=45551842-8a85-4124-bd52-6d8c1facc246">Meeti
 ng Agenda</a><br>\n
X-COA-DTSTAMP:20221102T211619Z
END:VEVENT
END:VCALENDAR
