BEGIN:VCALENDAR
CALSCALE:GREGORIAN
METHOD:PUBLISH
PRODID:-//github.com/ical-org/ical.net//NONSGML ical.net 4.0//EN
VERSION:2.0
X-WR-TIMEZONE:US/Eastern
BEGIN:VEVENT
CATEGORIES:Black History
CATEGORIES:Community Event
CATEGORIES:Equity
CATEGORIES:Museums
DESCRIPTION:To verify info please see https://apps.alexandriava.gov/Calend
 ar/Detail.aspx?si=43289\n\nThis meeting will be held in person.\n\nLocati
 on: Freedom House Museum\nAudience: Anyone may attend\nTags: Black Histor
 y\, Community Event\, Equity\, Museums\n\nWeb resources:\n\nAgenda\nhttps
 ://media.alexandriava.gov/content/oha/ACRPMarkerAgenda20220526.pdf\n
DTEND:20220527T010000Z
DTSTAMP:20220523T151553Z
DTSTART:20220526T230000Z
GEO:38.803899;-77.054490
LOCATION:Freedom House Museum
SEQUENCE:7
STATUS:CONFIRMED
SUMMARY:ACRP Soil and Marker Committee Meeting
TRANSP:OPAQUE
UID:96ee92f7-2c2b-4576-b82b-71620b0a4363
URL:https://media.alexandriava.gov/content/oha/ACRPMarkerAgenda20220526.pdf
X-ALT-DESC;FMTTYPE=text/html:To verify info please see <a href="https://ap
 ps.alexandriava.gov/Calendar/Detail.aspx?si=43289">https://apps.alexandri
 ava.gov/Calendar/Detail.aspx?si=43289</a><br />\n<br />This meeting will 
 be held in person.\n<br />\n<br />Location: Freedom House Museum\n<br />A
 udience: Anyone may attend\n<br />Tags: Black History\, Community Event\,
  Equity\, Museums<br>\n<a href="https://media.alexandriava.gov/content/oh
 a/ACRPMarkerAgenda20220526.pdf">Agenda</a><br>\n
X-COA-DTSTAMP:20220523T151553Z
END:VEVENT
END:VCALENDAR
