BEGIN:VCALENDAR
CALSCALE:GREGORIAN
METHOD:PUBLISH
PRODID:-//github.com/ical-org/ical.net//NONSGML ical.net 4.0//EN
VERSION:2.0
X-WR-TIMEZONE:US/Eastern
BEGIN:VEVENT
CATEGORIES:Community Outreach
CATEGORIES:Eco-City
CATEGORIES:Environment
CATEGORIES:T&ES Events
DESCRIPTION:To verify info please see https://apps.alexandriava.gov/Calend
 ar/Detail.aspx?si=39689\n\nThe City of Alexandria will host a virtual Ene
 rgy and Climate Change Action workshop on Tuesday\, March 1\, at 7 p.m. T
 his is the second of three community workshops focused on the update to t
 he Energy and Climate Change Action Plan (ECCAP). All interested communit
 y members are invited to participate\, however registration is required.\
 n\nLocation:  Virtual Only\nContact Person: Jessica Lassetter\nContact Em
 ail: jessica.lassetter@alexandriava.gov\nAudience: Anyone may attend\nTag
 s: Community Outreach\, Eco-City\, Environment\, T&ES Events
DTEND:20220302T020000Z
DTSTAMP:20220223T162941Z
DTSTART:20220302T000001Z
LOCATION: Virtual Only
SEQUENCE:6
STATUS:CONFIRMED
SUMMARY:VIRTUAL: Climate Change Action Plan Workshop #2
TRANSP:OPAQUE
UID:97ae1d48-7449-4171-8251-cb482f812c7d
X-ALT-DESC;FMTTYPE=text/html:To verify info please see <a href="https://ap
 ps.alexandriava.gov/Calendar/Detail.aspx?si=39689">https://apps.alexandri
 ava.gov/Calendar/Detail.aspx?si=39689</a><br />\n<br />The City of Alexan
 dria will host a virtual Energy and Climate Change Action workshop on Tue
 sday\, March 1\, at 7 p.m. This is the second of three community workshop
 s focused on the update to the Energy and Climate Change Action Plan (ECC
 AP). All interested community members are invited to participate\, howeve
 r registration is required.\n<br />\n<br />Location:  Virtual Only\n<br /
 >Contact Person: Jessica Lassetter\n<br />Contact Email: jessica.lassette
 r@alexandriava.gov\n<br />Audience: Anyone may attend\n<br />Tags: Commun
 ity Outreach\, Eco-City\, Environment\, T&amp\;ES Events
X-COA-DTSTAMP:20220223T162941Z
END:VEVENT
END:VCALENDAR
