BEGIN:VCALENDAR
CALSCALE:GREGORIAN
METHOD:PUBLISH
PRODID:-//github.com/ical-org/ical.net//NONSGML ical.net 4.0//EN
VERSION:2.0
X-WR-TIMEZONE:US/Eastern
BEGIN:VEVENT
CATEGORIES:Affordable Housing
CATEGORIES:Alexandria Redevelopment and Housing Authority
CATEGORIES:Boards & Commissions
DESCRIPTION:To verify info please see https://apps.alexandriava.gov/Calend
 ar/Detail.aspx?si=38556\n\nThe Alexandria Redevelopment and Housing Autho
 rity Board of Commissioners will hold Special Board meetings every Wednes
 day and convene immediately into Executive Session to discuss Legal\, Rea
 l Estate and\, Personnel issues. The meetings will begin at 8:00 am and i
 t will be a virtual event only.\n\n \nDue to the COVID-19 Pandemic emerge
 ncy\, the March 2022 Special Board meetings of the Alexandria Redevelopme
 nt and Housing Authority Board of Commissioners is being held electronica
 lly pursuant to Virginia Code Section 2.2-3708.2(A)(3) and the Continuity
  of Government ordinance adopted by the City Council on June 20\, 2020\, 
 to undertake essential business.  All of the members of the public body a
 nd staff are participating from remote locations through a Zoom meeting. 
 This meeting is being held electronically\, unless a determination is mad
 e that it is safe enough to be held in person in the Board Room at 401 Wy
 the Street\, Alexandria\, VA. Electronic access will be provided in eithe
 r event.\n\n\n\nLocation:  Virtual Only\nContact Person: Casandra Martine
 z\nContact Phone: 703.549.7115\nContact Email: cmartinez@arha.us\nAudienc
 e: Anyone may attend\nTags: Affordable Housing\, Alexandria Redevelopment
  and Housing Authority\, Boards & Commissions\n\nWeb resources:\n\nAlexan
 dria Redevelopment and Housing Authority\nhttps://www.arha.us/\n
DTEND:20220330T140000Z
DTSTAMP:20220324T155204Z
DTSTART:20220330T120000Z
LOCATION: Virtual Only
SEQUENCE:7
STATUS:CONFIRMED
SUMMARY:VIRTUAL: ARHA Board of Commissioners Special Board Meeting
TRANSP:OPAQUE
UID:715c55fe-0172-4352-ad86-639dca99260a
URL:https://www.arha.us/
X-ALT-DESC;FMTTYPE=text/html:To verify info please see <a href="https://ap
 ps.alexandriava.gov/Calendar/Detail.aspx?si=38556">https://apps.alexandri
 ava.gov/Calendar/Detail.aspx?si=38556</a><br />\n<br />The Alexandria Red
 evelopment and Housing Authority Board of Commissioners will hold Special
  Board meetings every Wednesday and convene immediately into Executive Se
 ssion to discuss Legal\, Real Estate and\, Personnel issues. The meetings
  will begin at 8:00 am and it will be a virtual event only.\n<br />\n<br 
 /> \n<br />Due to the COVID-19 Pandemic emergency\, the March 2022 Specia
 l Board meetings of the Alexandria Redevelopment and Housing Authority Bo
 ard of Commissioners is being held electronically pursuant to Virginia Co
 de Section 2.2-3708.2(A)(3) and the Continuity of Government ordinance ad
 opted by the City Council on June 20\, 2020\, to undertake essential busi
 ness.  All of the members of the public body and staff are participating 
 from remote locations through a Zoom meeting. This meeting is being held 
 electronically\, unless a determination is made that it is safe enough to
  be held in person in the Board Room at 401 Wythe Street\, Alexandria\, V
 A. Electronic access will be provided in either event.\n<br />\n<br />\n<
 br />\n<br />Location:  Virtual Only\n<br />Contact Person: Casandra Mart
 inez\n<br />Contact Phone: 703.549.7115\n<br />Contact Email: cmartinez@a
 rha.us\n<br />Audience: Anyone may attend\n<br />Tags: Affordable Housing
 \, Alexandria Redevelopment and Housing Authority\, Boards &amp\; Commiss
 ions<br>\n<a href="https://www.arha.us/">Alexandria Redevelopment and Hou
 sing Authority</a><br>\n
X-COA-DTSTAMP:20220324T155204Z
END:VEVENT
END:VCALENDAR
