BEGIN:VCALENDAR
CALSCALE:GREGORIAN
METHOD:PUBLISH
PRODID:-//github.com/ical-org/ical.net//NONSGML ical.net 4.0//EN
VERSION:2.0
X-WR-TIMEZONE:US/Eastern
BEGIN:VEVENT
CATEGORIES:Adult
CATEGORIES:Boards & Commissions
CATEGORIES:Commission Meeting
CATEGORIES:Seniors
DESCRIPTION:To verify info please see https://apps.alexandriava.gov/Calend
 ar/Detail.aspx?si=38376\n\nDue to the COVID-19 pandemic emergency\, the J
 anuary 13\, 2022 Commission on Aging - Full Commission Meeting is being h
 eld electronically. Board members and City staff are participating from r
 emote locations through a video conference call on Zoom. Registration lin
 k is below.\n\nRegistration Link: \nhttps://zoom.us/webinar/register/WN_5
 Vq0LkPxQuOmt1DgON4WjQ\n\nMeeting ID: 935 7751 7116\nPasscode: 251935\nPho
 ne In number:  301-715-8592\n\n\n\n\nLocation:  Virtual Only\nContact Per
 son: Debbie Ludington\nContact Phone: 703.746.5694\nAudience: Anyone may 
 attend\nTags: Adult\, Boards & Commissions\, Commission Meeting\, Seniors
 \n\nWeb resources:\n\nhttps://www.alexandriava.gov/Boards\n
DTEND:20220113T110000Z
DTSTAMP:20211116T201910Z
DTSTART:20220113T090000Z
LOCATION: Virtual Only
SEQUENCE:5
STATUS:CONFIRMED
SUMMARY:VIRTUAL: Commission on Aging -Full Commission
TRANSP:OPAQUE
UID:ce3db215-689d-469d-95d4-d876d2a735e3
URL:https://www.alexandriava.gov/Boards
X-ALT-DESC;FMTTYPE=text/html:To verify info please see <a href="https://ap
 ps.alexandriava.gov/Calendar/Detail.aspx?si=38376">https://apps.alexandri
 ava.gov/Calendar/Detail.aspx?si=38376</a><br />\n<br />Due to the COVID-1
 9 pandemic emergency\, the January 13\, 2022 Commission on Aging ? Full C
 ommission Meeting is being held electronically. Board members and City st
 aff are participating from remote locations through a video conference ca
 ll on Zoom. Registration link is below.\n<br />\n<br />Registration Link:
  \n<br />https://zoom.us/webinar/register/WN_5Vq0LkPxQuOmt1DgON4WjQ\n<br 
 />\n<br />Meeting ID: 935 7751 7116\n<br />Passcode: 251935\n<br />Phone 
 In number:  301-715-8592\n<br />\n<br />\n<br />\n<br />\n<br />Location:
   Virtual Only\n<br />Contact Person: Debbie Ludington\n<br />Contact Pho
 ne: 703.746.5694\n<br />Audience: Anyone may attend\n<br />Tags: Adult\, 
 Boards &amp\; Commissions\, Commission Meeting\, Seniors<br>\n<a href="ht
 tps://www.alexandriava.gov/Boards">https://www.alexandriava.gov/Boards</a
 ><br>\n
X-COA-DTSTAMP:20211116T201910Z
END:VEVENT
END:VCALENDAR
