BEGIN:VCALENDAR
CALSCALE:GREGORIAN
METHOD:PUBLISH
PRODID:-//github.com/ical-org/ical.net//NONSGML ical.net 4.0//EN
VERSION:2.0
X-WR-TIMEZONE:US/Eastern
BEGIN:VEVENT
CATEGORIES:Arts
CATEGORIES:Community Event
CATEGORIES:Del Ray
CATEGORIES:Family
CATEGORIES:Mt. Vernon Ave.
CATEGORIES:Recreation
CATEGORIES:Visual Arts
DESCRIPTION:To verify info please see https://apps.alexandriava.gov/Calend
 ar/Detail.aspx?si=3815\n\nOn the first Saturday of the month from May thr
 ough November\, except October\, Artists will display and sell their art 
 work.  Musical performances.\n\nLocation: Mt. Vernon Avenue\nContact Pers
 on: Kimberley Bush\nContact Phone: 703.838.4827\nContact Email: dra.alexa
 ndriaartmarket@gmail.com\nAudience: Anyone may attend\nTags: Arts\, Commu
 nity Event\, Del Ray\, Family\, Mt. Vernon Ave.\, Recreation\, Visual Art
 s
DTEND:20120901T200000Z
DTSTAMP:20130619T220000Z
DTSTART:20120901T140000Z
GEO:38.823193;-77.058191
LOCATION:Mt. Vernon Avenue
SEQUENCE:6
STATUS:CONFIRMED
SUMMARY:Alexandria Art Market
TRANSP:TRANSPARENT
UID:dfc4ebcb-21e0-4658-a7d2-6e495716992c
X-ALT-DESC;FMTTYPE=text/html:To verify info please see <a href="https://ap
 ps.alexandriava.gov/Calendar/Detail.aspx?si=3815">https://apps.alexandria
 va.gov/Calendar/Detail.aspx?si=3815</a><br />\n<br />On the first Saturda
 y of the month from May through November\, except October\, Artists will 
 display and sell their art work.  Musical performances.\n<br />\n<br />Lo
 cation: Mt. Vernon Avenue\n<br />Contact Person: Kimberley Bush\n<br />Co
 ntact Phone: 703.838.4827\n<br />Contact Email: dra.alexandriaartmarket@g
 mail.com\n<br />Audience: Anyone may attend\n<br />Tags: Arts\, Community
  Event\, Del Ray\, Family\, Mt. Vernon Ave.\, Recreation\, Visual Arts
X-COA-DTSTAMP:20120425T213618Z
END:VEVENT
END:VCALENDAR
