BEGIN:VCALENDAR
CALSCALE:GREGORIAN
METHOD:PUBLISH
PRODID:-//github.com/ical-org/ical.net//NONSGML ical.net 4.0//EN
VERSION:2.0
X-WR-TIMEZONE:US/Eastern
BEGIN:VEVENT
CATEGORIES:Cablecast
CATEGORIES:City Council
CATEGORIES:City Council Calendar
CATEGORIES:City Council Public Comment Opportunity
CATEGORIES:City Hall
CATEGORIES:Public Hearing
CATEGORIES:Webcast
DESCRIPTION:To verify info please see https://apps.alexandriava.gov/Calend
 ar/Detail.aspx?si=37737\n\nThe June 18\, 2022 Public Hearing Meeting of t
 he Alexandria City Council is being held in the Council Chamber (301 King
  Street\, Alexandria\, Virginia\, 22314) and electronically. Members of C
 ity Council and staff are participating either in-person or from a remote
  location through video conference call on Zoom webinar. The meeting can 
 be accessed by government channel 70\, streaming on the City's website\, 
 and can be accessed via Zoom by the following link:\n\nRegistration: http
 s://zoom.us/webinar/register/WN_t6Dj_yvRTyuf1vhWPJyxZA\nWebinar ID: 990 9
 589 6474\nWebinar Passcode: 501291\nDial-in number: 301-715-8592\n\nIf yo
 u use the Zoom webinar application\, please be sure you have updated the 
 application to the latest version for the best results. If you are unable
  to access the Zoom webinar\, please use the Dial-In number to access the
  meeting.\n\n***PLEASE LOG-IN EARLY IF POSSIBLE***\n\nLinks:\n\nMeeting A
 genda and Live Webcast\nThe meeting will be webcast live and video and au
 dio recordings will be available a few days after the meeting.\n\nZoom Re
 gistration Form\nIf you wish to use Zoom to watch the meeting or to addre
 ss Council\, you must register first. Those wishing to address Council sh
 ould also submit a Speaker's Form using the link below.\n\nSpeaker's Form
 \nhttps://survey.alexandriava.gov/s3/2020-VIRTUAL-City-Council-Speakers-F
 orm\n\nThose wishing to address Council should submit a Speaker's Form (s
 ee above).\n\nSubmission of written statements is encouraged. Please sign
  up after the docket is created and posted and you are able to verify the
  meeting date on the City's website.\nIf the docket is not posted\, you w
 ill have to return at a later date to complete the speaker's form in orde
 r to speak at a Council meeting.\n\nPublic Comment will be received at th
 is meeting.\n\nAll persons wishing to speak before City Council must comp
 lete a Speaker's Form. If You have prepared statement or a written commen
 ts for the record you may email it to the City Clerk at CouncilComment@al
 exandriava.gov.\n\nSpeakers are encouraged to submit their written commen
 ts to the City Clerk.\n\n*****\nIndividuals requiring translation service
 s should contact the City Clerk and Clerk of Council at gloria.sitton@ale
 xandriava.gov or at 703.746.4550. We request that you provide a 48-hour n
 otice so that the proper arrangements may be made. Please specify the lan
 guage for translation when you make the request.\n\nLas personas que requ
 ieran servicios de traducci?n deben comunicarse con el Secretario de la C
 iudad y el Secretario del Consejo en gloria.sitton@alexandriava.gov o al 
 703.746.4550. Le solicitamos que proporcione un aviso de 48 horas para qu
 e se puedan hacer los arreglos necesarios. Por favor\, especifique el idi
 oma de traducci?n cuando realice la solicitud.\n\n\nLocation: City Hall\,
  Council Chamber\, 301 King St.\nContact Person: Gloria Sitton\nContact P
 hone: 703.746.4550\nContact Email: gloria.sitton@alexandriava.gov\nAudien
 ce: Anyone may attend\nTags: Cablecast\, City Council\, City Council Cale
 ndar\, City Council Public Comment Opportunity\, City Hall\, Public Heari
 ng\, Webcast\n\nWeb resources:\n\nMeeting Agenda\nhttps://legistar.granic
 us.com/alexandria/meetings/2022/6/2260_A_City_Council_Public_Hearing_22-0
 6-18_Docket.pdf?id=bc32c010-4e36-43db-8135-8410abfd14a7\n\nSpeaker's Form
 \nhttps://survey.alexandriava.gov/s3/2020-VIRTUAL-City-Council-Speakers-F
 orm\n
DTEND:20220618T203000Z
DTSTAMP:20220613T200013Z
DTSTART:20220618T133000Z
GEO:38.805393;-77.043273
LOCATION:City Hall\, Council Chamber\, 301 King St.
SEQUENCE:12
STATUS:CONFIRMED
SUMMARY:City Council Public Hearing Meeting
TRANSP:TRANSPARENT
UID:f20f577f-b228-4869-bc4a-13596b7c241e
URL:https://legistar.granicus.com/alexandria/meetings/2022/6/2260_A_City_C
 ouncil_Public_Hearing_22-06-18_Docket.pdf?id=bc32c010-4e36-43db-8135-8410
 abfd14a7
X-ALT-DESC;FMTTYPE=text/html:To verify info please see <a href="https://ap
 ps.alexandriava.gov/Calendar/Detail.aspx?si=37737">https://apps.alexandri
 ava.gov/Calendar/Detail.aspx?si=37737</a><br />\n<br />The June 18\, 2022
  Public Hearing Meeting of the Alexandria City Council is being held in t
 he Council Chamber (301 King Street\, Alexandria\, Virginia\, 22314) and 
 electronically. Members of City Council and staff are participating eithe
 r in-person or from a remote location through video conference call on Zo
 om webinar. The meeting can be accessed by government channel 70\, stream
 ing on the City&#39\;s website\, and can be accessed via Zoom by the foll
 owing link:\n<br />\n<br />Registration: https://zoom.us/webinar/register
 /WN_t6Dj_yvRTyuf1vhWPJyxZA\n<br />Webinar ID: 990 9589 6474\n<br />Webina
 r Passcode: 501291\n<br />Dial-in number: 301-715-8592\n<br />\n<br />If 
 you use the Zoom webinar application\, please be sure you have updated th
 e application to the latest version for the best results. If you are unab
 le to access the Zoom webinar\, please use the Dial-In number to access t
 he meeting.\n<br />\n<br />***PLEASE LOG-IN EARLY IF POSSIBLE***\n<br />\
 n<br />Links:\n<br />\n<br />Meeting Agenda and Live Webcast\n<br />The m
 eeting will be webcast live and video and audio recordings will be availa
 ble a few days after the meeting.\n<br />\n<br />Zoom Registration Form\n
 <br />If you wish to use Zoom to watch the meeting or to address Council\
 , you must register first. Those wishing to address Council should also s
 ubmit a Speaker&#39\;s Form using the link below.\n<br />\n<br />Speaker&
 #39\;s Form\n<br /><a href="https://survey.alexandriava.gov/s3/2020-VIRTU
 AL-City-Council-Speakers-Form">https://survey.alexandriava.gov/s3/2020-VI
 RTUAL-City-Council-Speakers-Form</a><br />\n<br />Those wishing to addres
 s Council should submit a Speaker&#39\;s Form (see above).\n<br />\n<br /
 >Submission of written statements is encouraged. Please sign up after the
  docket is created and posted and you are able to verify the meeting date
  on the City&#39\;s website.\n<br />If the docket is not posted\, you wil
 l have to return at a later date to complete the speaker&#39\;s form in o
 rder to speak at a Council meeting.\n<br />\n<br />Public Comment will be
  received at this meeting.\n<br />\n<br />All persons wishing to speak be
 fore City Council must complete a Speaker&#39\;s Form. If You have prepar
 ed statement or a written comments for the record you may email it to the
  City Clerk at CouncilComment@alexandriava.gov.\n<br />\n<br />Speakers a
 re encouraged to submit their written comments to the City Clerk.\n<br />
 \n<br />*****\n<br />Individuals requiring translation services should co
 ntact the City Clerk and Clerk of Council at gloria.sitton@alexandriava.g
 ov or at 703.746.4550. We request that you provide a 48-hour notice so th
 at the proper arrangements may be made. Please specify the language for t
 ranslation when you make the request.\n<br />\n<br />Las personas que req
 uieran servicios de traducci&#243\;n deben comunicarse con el Secretario 
 de la Ciudad y el Secretario del Consejo en gloria.sitton@alexandriava.go
 v o al 703.746.4550. Le solicitamos que proporcione un aviso de 48 horas 
 para que se puedan hacer los arreglos necesarios. Por favor\, especifique
  el idioma de traducci&#243\;n cuando realice la solicitud.\n<br />\n<br 
 />\n<br />Location: City Hall\, Council Chamber\, 301 King St.\n<br />Con
 tact Person: Gloria Sitton\n<br />Contact Phone: 703.746.4550\n<br />Cont
 act Email: gloria.sitton@alexandriava.gov\n<br />Audience: Anyone may att
 end\n<br />Tags: Cablecast\, City Council\, City Council Calendar\, City 
 Council Public Comment Opportunity\, City Hall\, Public Hearing\, Webcast
 <br>\n<a href="https://legistar.granicus.com/alexandria/meetings/2022/6/2
 260_A_City_Council_Public_Hearing_22-06-18_Docket.pdf?id=bc32c010-4e36-43
 db-8135-8410abfd14a7">Meeting Agenda</a><br>\n<a href="https://survey.ale
 xandriava.gov/s3/2020-VIRTUAL-City-Council-Speakers-Form">Speaker&#39\;s 
 Form</a><br>\n
X-COA-DTSTAMP:20220613T200013Z
END:VEVENT
END:VCALENDAR
