BEGIN:VCALENDAR
CALSCALE:GREGORIAN
METHOD:PUBLISH
PRODID:-//github.com/ical-org/ical.net//NONSGML ical.net 4.0//EN
VERSION:2.0
X-WR-TIMEZONE:US/Eastern
BEGIN:VEVENT
CATEGORIES:Boards & Commissions
CATEGORIES:Commission Meeting
CATEGORIES:Museums
DESCRIPTION:To verify info please see https://apps.alexandriava.gov/Calend
 ar/Detail.aspx?si=36462\n\nVirtual Meeting\n\nLocation:  Virtual Only\nAu
 dience: Anyone may attend\nTags: Boards & Commissions\, Commission Meetin
 g\, Museums\n\nWeb resources:\n\nMeeting Agenda\nhttps://www.alexandriava
 .gov/uploadedFiles/historic/info/commissions/HARCAgenda20211221.pdf\n
DTEND:20211222T020000Z
DTSTAMP:20211213T194032Z
DTSTART:20211222T000001Z
LOCATION: Virtual Only
SEQUENCE:10
STATUS:CONFIRMED
SUMMARY:VIRTUAL: Historic Alexandria Resources Com Meeting
TRANSP:OPAQUE
UID:02ee9a39-bbec-4668-b63f-d6adce221a70
URL:https://www.alexandriava.gov/uploadedFiles/historic/info/commissions/H
 ARCAgenda20211221.pdf
X-ALT-DESC;FMTTYPE=text/html:To verify info please see <a href="https://ap
 ps.alexandriava.gov/Calendar/Detail.aspx?si=36462">https://apps.alexandri
 ava.gov/Calendar/Detail.aspx?si=36462</a><br />\n<br />Virtual Meeting\n<
 br />\n<br />Location:  Virtual Only\n<br />Audience: Anyone may attend\n
 <br />Tags: Boards &amp\; Commissions\, Commission Meeting\, Museums<br>\
 n<a href="https://www.alexandriava.gov/uploadedFiles/historic/info/commis
 sions/HARCAgenda20211221.pdf">Meeting Agenda</a><br>\n
X-COA-DTSTAMP:20211213T194032Z
END:VEVENT
END:VCALENDAR
