BEGIN:VCALENDAR
CALSCALE:GREGORIAN
METHOD:PUBLISH
PRODID:-//github.com/ical-org/ical.net//NONSGML ical.net 4.0//EN
VERSION:2.0
X-WR-TIMEZONE:US/Eastern
BEGIN:VEVENT
CATEGORIES:Boards & Commissions
CATEGORIES:Community Meeting
CATEGORIES:Community Outreach
CATEGORIES:Eisenhower West
CATEGORIES:EWLVD
CATEGORIES:Landmark/Van Dorn
CATEGORIES:Planning Meeting
DESCRIPTION:To verify info please see https://apps.alexandriava.gov/Calend
 ar/Detail.aspx?si=35093\n\nEisenhower West/Landmark Van Dorn Implementati
 on Advisory Group Meeting\n\nLocation:  Virtual Only\nContact Person: Ash
 ley Labadie\nContact Phone: 703.746.3801\nContact Email: ashley.labadie@a
 lexandriava.gov\nAudience: Anyone may attend\nTags: Boards & Commissions\
 , Community Meeting\, Community Outreach\, Eisenhower West\, EWLVD\, Land
 mark/Van Dorn\, Planning Meeting\n\nWeb resources:\n\nProject website\nht
 tps://www.alexandriava.gov/LandmarkVanDorn\n
DTEND:20210525T000001Z
DTSTAMP:20210324T134339Z
DTSTART:20210524T220000Z
LOCATION: Virtual Only
SEQUENCE:5
STATUS:CONFIRMED
SUMMARY:VIRTUAL: Eisenhower West/LandmarkVanDorn AG Meeting
TRANSP:OPAQUE
UID:8841b17d-94e2-49d7-ad5d-13010ebcbf1a
URL:https://www.alexandriava.gov/LandmarkVanDorn
X-ALT-DESC;FMTTYPE=text/html:To verify info please see <a href="https://ap
 ps.alexandriava.gov/Calendar/Detail.aspx?si=35093">https://apps.alexandri
 ava.gov/Calendar/Detail.aspx?si=35093</a><br />\n<br />Eisenhower West/La
 ndmark Van Dorn Implementation Advisory Group Meeting\n<br />\n<br />Loca
 tion:  Virtual Only\n<br />Contact Person: Ashley Labadie\n<br />Contact 
 Phone: 703.746.3801\n<br />Contact Email: ashley.labadie@alexandriava.gov
 \n<br />Audience: Anyone may attend\n<br />Tags: Boards &amp\; Commission
 s\, Community Meeting\, Community Outreach\, Eisenhower West\, EWLVD\, La
 ndmark/Van Dorn\, Planning Meeting<br>\n<a href="https://www.alexandriava
 .gov/LandmarkVanDorn">Project website</a><br>\n
X-COA-DTSTAMP:20210324T134339Z
END:VEVENT
END:VCALENDAR
