BEGIN:VCALENDAR
CALSCALE:GREGORIAN
METHOD:PUBLISH
PRODID:-//github.com/ical-org/ical.net//NONSGML ical.net 4.0//EN
VERSION:2.0
X-WR-TIMEZONE:US/Eastern
BEGIN:VEVENT
CATEGORIES:Affordable Housing
CATEGORIES:Alexandria Redevelopment and Housing Authority
CATEGORIES:Boards & Commissions
CATEGORIES:Planning Meeting
DESCRIPTION:To verify info please see https://apps.alexandriava.gov/Calend
 ar/Detail.aspx?si=34820\n\nTBA\n\n\nLocation:  Virtual Only\nContact Pers
 on: Brandi Collins\nContact Phone: 703.746.4990\nContact Email: brandi.co
 llins@alexandriava.gov\nAudience: Anyone may attend\nTags: Affordable Hou
 sing\, Alexandria Redevelopment and Housing Authority\, Boards & Commissi
 ons\, Planning Meeting\n\nWeb resources:\n\nhttps://www.alexandriava.gov/
 Housing\n
DTEND:20211021T230000Z
DTSTAMP:20210115T221914Z
DTSTART:20211021T213000Z
LOCATION: Virtual Only
SEQUENCE:5
STATUS:CONFIRMED
SUMMARY:VIRTUAL: ARHA Redevelopment Work Group Meeting
TRANSP:OPAQUE
UID:c971ecd7-829b-4c7d-afe2-9f21ae237443
URL:https://www.alexandriava.gov/Housing
X-ALT-DESC;FMTTYPE=text/html:To verify info please see <a href="https://ap
 ps.alexandriava.gov/Calendar/Detail.aspx?si=34820">https://apps.alexandri
 ava.gov/Calendar/Detail.aspx?si=34820</a><br />\n<br />TBA\n<br />\n<br /
 >\n<br />Location:  Virtual Only\n<br />Contact Person: Brandi Collins\n<
 br />Contact Phone: 703.746.4990\n<br />Contact Email: brandi.collins@ale
 xandriava.gov\n<br />Audience: Anyone may attend\n<br />Tags: Affordable 
 Housing\, Alexandria Redevelopment and Housing Authority\, Boards &amp\; 
 Commissions\, Planning Meeting<br>\n<a href="https://www.alexandriava.gov
 /Housing">https://www.alexandriava.gov/Housing</a><br>\n
X-COA-DTSTAMP:20210115T221914Z
END:VEVENT
END:VCALENDAR
