BEGIN:VCALENDAR
CALSCALE:GREGORIAN
METHOD:PUBLISH
PRODID:-//github.com/ical-org/ical.net//NONSGML ical.net 4.0//EN
VERSION:2.0
X-WR-TIMEZONE:US/Eastern
BEGIN:VEVENT
CATEGORIES:Boards & Commissions
CATEGORIES:Court Services
CATEGORIES:Criminal Justice
CATEGORIES:Public Safety
DESCRIPTION:To verify info please see https://apps.alexandriava.gov/Calend
 ar/Detail.aspx?si=34803\n\nDue to the COVID-19 Pandemic emergency\, the J
 anuary 19\, 2021 meeting of the Alexandria Community Criminal Justice Boa
 rd is being held electronically pursuant to Virginia Code Section 2.2- 37
 08.2(A)(3)\, the Continuity of Government ordinance adopted by the City C
 ouncil on June 20\, 2020 or Section 4-0.01(g) in HB29 and HB30\, enacted 
 by the 2020 Virginia General Assembly (Virginia Acts of Assembly Ch. 1283
  and 1289)\, to undertake essential business. All members of the Board an
 d staff who are participating are doing from remote locations through Zoo
 m Webinar. This meeting is being held electronically\, unless a determina
 tion is made that it is safe enough to be held in person in the City Coun
 cil Chamber at 301 King Street\, Alexandria\, VA. Electronic access will 
 be provided in either event. The meeting can be accessed by the public th
 rough: Zoom hyperlink (below) or by phone.\n\nAlexandria Community Crimin
 al Justice Board Meeting\nThis meeting is being held to transition leader
 ship.\nThe meeting will open at 11:15 AM to allow individuals to join whi
 le the meeting will begin approximately at 11:30 AM.\n\n\nJoin Zoom Meeti
 ng\nhttps://zoom.us/j/98219292142\nMeeting ID: 982 1929 2142\nPasscode: 4
 94791\n\nJoin by phone: 301.715.8592\nMeeting ID: 982 1929 2142\nPasscode
 : 494791\n\n\nPublic comment will be received at the meeting. The public 
 may submit comments in advance to the board Chair at cathryn.evans@alexan
 driava.gov and to board liaison at desha.hall@alexandriava.gov for the Al
 exandria Community Criminal Justice Board Meeting or make public comments
  through the conference call on the day of the meeting.\n\nFor reasonable
  disability accommodation for the Alexandria Community Criminal Justice B
 oard meeting contact Cathryn Evans at cathryn.evans@alexandriava.gov or 7
 03.746.4100 and Desha Hall-Winstead at desha.hall@alexandriava.gov or 703
 .746.4547\, Virginia Relay 711. We request that you provide a 48-hour not
 ice so that the proper arrangements may be made.\n\n\nLocation:  Virtual 
 Only\nContact Person: Desha Hall-Winstead\nContact Phone: 703.746.4547\nA
 udience: Anyone may attend\nTags: Boards & Commissions\, Court Services\,
  Criminal Justice\, Public Safety
DTEND:20210119T173000Z
DTSTAMP:20210112T164418Z
DTSTART:20210119T163000Z
LOCATION: Virtual Only
SEQUENCE:6
STATUS:CONFIRMED
SUMMARY:VIRTUAL: Community Criminal Justice Board
TRANSP:OPAQUE
UID:830ecc87-bb8e-4c74-95ec-c921407319b7
X-ALT-DESC;FMTTYPE=text/html:To verify info please see <a href="https://ap
 ps.alexandriava.gov/Calendar/Detail.aspx?si=34803">https://apps.alexandri
 ava.gov/Calendar/Detail.aspx?si=34803</a><br />\n<br />Due to the COVID-1
 9 Pandemic emergency\, the January 19\, 2021 meeting of the Alexandria Co
 mmunity Criminal Justice Board is being held electronically pursuant to V
 irginia Code Section 2.2- 3708.2(A)(3)\, the Continuity of Government ord
 inance adopted by the City Council on June 20\, 2020 or Section 4-0.01(g)
  in HB29 and HB30\, enacted by the 2020 Virginia General Assembly (Virgin
 ia Acts of Assembly Ch. 1283 and 1289)\, to undertake essential business.
  All members of the Board and staff who are participating are doing from 
 remote locations through Zoom Webinar. This meeting is being held electro
 nically\, unless a determination is made that it is safe enough to be hel
 d in person in the City Council Chamber at 301 King Street\, Alexandria\,
  VA. Electronic access will be provided in either event. The meeting can 
 be accessed by the public through: Zoom hyperlink (below) or by phone.\n<
 br />\n<br />Alexandria Community Criminal Justice Board Meeting\n<br />T
 his meeting is being held to transition leadership.\n<br />The meeting wi
 ll open at 11:15 AM to allow individuals to join while the meeting will b
 egin approximately at 11:30 AM.\n<br />\n<br />\n<br />Join Zoom Meeting\
 n<br />https://zoom.us/j/98219292142\n<br />Meeting ID: 982 1929 2142\n<b
 r />Passcode: 494791\n<br />\n<br />Join by phone: 301.715.8592\n<br />Me
 eting ID: 982 1929 2142\n<br />Passcode: 494791\n<br />\n<br />\n<br />Pu
 blic comment will be received at the meeting. The public may submit comme
 nts in advance to the board Chair at cathryn.evans@alexandriava.gov and t
 o board liaison at desha.hall@alexandriava.gov for the Alexandria Communi
 ty Criminal Justice Board Meeting or make public comments through the con
 ference call on the day of the meeting.\n<br />\n<br />For reasonable dis
 ability accommodation for the Alexandria Community Criminal Justice Board
  meeting contact Cathryn Evans at cathryn.evans@alexandriava.gov or 703.7
 46.4100 and Desha Hall-Winstead at desha.hall@alexandriava.gov or 703.746
 .4547\, Virginia Relay 711. We request that you provide a 48-hour notice 
 so that the proper arrangements may be made.\n<br />\n<br />\n<br />Locat
 ion:  Virtual Only\n<br />Contact Person: Desha Hall-Winstead\n<br />Cont
 act Phone: 703.746.4547\n<br />Audience: Anyone may attend\n<br />Tags: B
 oards &amp\; Commissions\, Court Services\, Criminal Justice\, Public Saf
 ety
X-COA-DTSTAMP:20210112T164418Z
END:VEVENT
END:VCALENDAR
