BEGIN:VCALENDAR
CALSCALE:GREGORIAN
METHOD:PUBLISH
PRODID:-//github.com/ical-org/ical.net//NONSGML ical.net 4.0//EN
VERSION:2.0
X-WR-TIMEZONE:US/Eastern
BEGIN:VEVENT
CATEGORIES:Black History Museum
CATEGORIES:Museums
CATEGORIES:Old & Historic Alexandria
DESCRIPTION:To verify info please see https://apps.alexandriava.gov/Calend
 ar/Detail.aspx?si=33590\n\nThe Alexandria Black History Museum (ABHM) wil
 l present its annual Kwanzaa How-to Workshop\, virtually\, on Saturday\, 
 December 5\, 2020 at 11:00 a.m. \n\nLearn how to do your own celebration 
 as former ABHM curator\, Lillian S. Patterson\, and ABHM volunteers Cathy
  Riddick-Brown\, and Linda Haughton\, show you the origins\, concepts\, a
 nd practices of Kwanzaa. You will hear about principals\, symbols\, fun a
 ctivities\, and more that will enchant you all year long.  \n\nBegin the 
 day earlier hearing the Kwanzaa story the Seven Spools of Thread as the A
 lexandria Black History Museum presents its monthly program\, Story Time 
 for Little Historians. The story will be posted on Historic Alexandria's 
 YouTube Channel beginning Tuesday\, December 1. You can find the YouTube 
 Channel HistoricAlexVA at https://www.youtube.com/user/gadsbystavernmuseu
 m1/featured.\n\nThese are free events\, but registration is required for 
 the Kwanzaa How to Workshop. Use the link below to sign up for the Kwanza
 a How-to Workshop. \n\nLocation:  Virtual Only\nContact Person: Audrey Da
 vis\nContact Phone: 703.746.4356\nContact Email: Audrey.Davis@alexandriav
 a.gov\nAudience: Anyone may attend\nTags: Black History Museum\, Museums\
 , Old & Historic Alexandria
DTEND:20201205T173000Z
DTSTAMP:20201119T165110Z
DTSTART:20201205T160000Z
LOCATION: Virtual Only
SEQUENCE:6
STATUS:CONFIRMED
SUMMARY:VIRTUAL: Kwanzaa How-to Workshop
TRANSP:OPAQUE
UID:d854227a-30df-4e75-b4b6-845890cb5a7a
X-ALT-DESC;FMTTYPE=text/html:To verify info please see <a href="https://ap
 ps.alexandriava.gov/Calendar/Detail.aspx?si=33590">https://apps.alexandri
 ava.gov/Calendar/Detail.aspx?si=33590</a><br />\n<br />The Alexandria Bla
 ck History Museum (ABHM) will present its annual Kwanzaa How-to Workshop\
 , virtually\, on Saturday\, December 5\, 2020 at 11:00 a.m. \n<br />\n<br
  />Learn how to do your own celebration as former ABHM curator\, Lillian 
 S. Patterson\, and ABHM volunteers Cathy Riddick-Brown\, and Linda Haught
 on\, show you the origins\, concepts\, and practices of Kwanzaa. You will
  hear about principals\, symbols\, fun activities\, and more that will en
 chant you all year long.  \n<br />\n<br />Begin the day earlier hearing t
 he Kwanzaa story the Seven Spools of Thread as the Alexandria Black Histo
 ry Museum presents its monthly program\, Story Time for Little Historians
 . The story will be posted on Historic Alexandria?s YouTube Channel begin
 ning Tuesday\, December 1. You can find the YouTube Channel HistoricAlexV
 A at https://www.youtube.com/user/gadsbystavernmuseum1/featured.\n<br />\
 n<br />These are free events\, but registration is required for the Kwanz
 aa How to Workshop. Use the link below to sign up for the Kwanzaa How-to 
 Workshop. \n<br />\n<br />Location:  Virtual Only\n<br />Contact Person: 
 Audrey Davis\n<br />Contact Phone: 703.746.4356\n<br />Contact Email: Aud
 rey.Davis@alexandriava.gov\n<br />Audience: Anyone may attend\n<br />Tags
 : Black History Museum\, Museums\, Old &amp\; Historic Alexandria
X-COA-DTSTAMP:20201119T165110Z
END:VEVENT
END:VCALENDAR
