BEGIN:VCALENDAR
CALSCALE:GREGORIAN
METHOD:PUBLISH
PRODID:-//github.com/ical-org/ical.net//NONSGML ical.net 4.0//EN
VERSION:2.0
X-WR-TIMEZONE:US/Eastern
BEGIN:VEVENT
CATEGORIES:AHDLimited
CATEGORIES:Caregiver
CATEGORIES:Family
CATEGORIES:Health
CATEGORIES:Youth
DESCRIPTION:To verify info please see https://apps.alexandriava.gov/Calend
 ar/Detail.aspx?si=33408\n\nParticipate in a Town Hall parents with childr
 en attending daycare or other child care settings. Receive COVID-19 publi
 c health guidance\, including when to keep a child home from daycare\; wh
 en to get a child tested for COVID-19\; when to return a child to daycare
 \; and common infection scenarios. Parents will be reminded of the steps 
 they can take to help stop the spread of COVID-19 and share resources. Th
 e hope is for these sessions to be interactive\, with time for questions 
 at the end. Please join either of the sessions.\n\nLocation:  Virtual Onl
 y\nContact Person: Natalie Talis\nContact Email: natalie.talis@vdh.virgin
 ia.gov\nAudience: Anyone may attend\nTags: AHDLimited\, Caregiver\, Famil
 y\, Health\, Youth
DTEND:20201015T230000Z
DTSTAMP:20201014T211217Z
DTSTART:20201015T220000Z
LOCATION: Virtual Only
SEQUENCE:6
STATUS:CONFIRMED
SUMMARY:VIRTUAL: Daycare Parent Town Hall
TRANSP:TRANSPARENT
UID:dc7a6995-3fea-4c3b-b94c-c402e88b7e41
X-ALT-DESC;FMTTYPE=text/html:To verify info please see <a href="https://ap
 ps.alexandriava.gov/Calendar/Detail.aspx?si=33408">https://apps.alexandri
 ava.gov/Calendar/Detail.aspx?si=33408</a><br />\n<br />Participate in a T
 own Hall parents with children attending daycare or other child care sett
 ings. Receive COVID-19 public health guidance\, including when to keep a 
 child home from daycare\; when to get a child tested for COVID-19\; when 
 to return a child to daycare\; and common infection scenarios. Parents wi
 ll be reminded of the steps they can take to help stop the spread of COVI
 D-19 and share resources. The hope is for these sessions to be interactiv
 e\, with time for questions at the end. Please join either of the session
 s.\n<br />\n<br />Location:  Virtual Only\n<br />Contact Person: Natalie 
 Talis\n<br />Contact Email: natalie.talis@vdh.virginia.gov\n<br />Audienc
 e: Anyone may attend\n<br />Tags: AHDLimited\, Caregiver\, Family\, Healt
 h\, Youth
X-COA-DTSTAMP:20201014T211217Z
END:VEVENT
END:VCALENDAR
