BEGIN:VCALENDAR
CALSCALE:GREGORIAN
METHOD:PUBLISH
PRODID:-//github.com/ical-org/ical.net//NONSGML ical.net 4.0//EN
VERSION:2.0
X-WR-TIMEZONE:US/Eastern
BEGIN:VEVENT
CATEGORIES:Cablecast
CATEGORIES:City Council
CATEGORIES:City Council Calendar
CATEGORIES:City Council Public Comment Opportunity
CATEGORIES:Council Meeting
CATEGORIES:Live Closed Captioning
CATEGORIES:Public Hearing
CATEGORIES:Webcast
DESCRIPTION:To verify info please see https://apps.alexandriava.gov/Calend
 ar/Detail.aspx?si=32179\n\nDue to the COVID-19 pandemic emergency\, the S
 eptember 12\, 2020 Public Hearing meeting of the Alexandria City Council 
 is being held electronically pursuant to Virginia Code Section 2.2-3708.2
 (A)(3)\, the Continuity of Government ordinance adopted by the City Counc
 il on June 20\, 2020 and/or Section 4.0-00(g) in HB29 and HB30 to underta
 ke essential business.  All the members of the City Council and staff are
  participating from remote locations through a video conference call on Z
 oom.  The meeting can be accessed by the public through the live broadcas
 t on the government channel 70\, streaming on the City's website\, and ca
 n be accessed via Zoom by the following link:\n\nURL: https://zoom.us/web
 inar/register/WN_wFMTDnUHT22ysjjpnoAJAQ\nWebinar ID: 975 9178 4491\nWebin
 ar Passcode: 348732\nDial-in number: 301-715-8592\n\nLinks:\nMeeting agen
 da and Live Webcast\nThe meeting will be webcast live and video and audio
  recording will be available a few days after the meeting.\n\nZoom regist
 ration from\nIf you wish to use Zoom to watch this meeting or to address 
 Council\, you must register first.  Those wishing to address Council shou
 ld also submit a Speaker's Form using the link below.\n\nSpeaker's Form\n
 https://survey.alexandriava.gov/s3/VIRTUAL-City-Council-Speakers-Form\nTh
 ose wishing to address Council should submit a Speaker's Form.  Submissio
 n of written statements is encouraged.  Please sign up after the docket i
 s posted and you are able to verify it on the City's website.  If the doc
 ket is not posted\, you will have to return at a later date to complete t
 he speaker's form in order to speak at a Council meeting.\n\n******\n\nPu
 blic Comment will be received at this meeting.\n\nAll persons wishing to 
 speak before City Council must complete a Speaker's Form.  If you have a 
 prepared statement\, you may email it to the City Clerk at gloria.sitton@
 alexandriava.gov.  Speakers are encouraged to submit their written commen
 ts to the City Clerk.\n\n\n\n\n\nLocation:  No Location Specified\nAudien
 ce: Anyone may attend\nTags: Cablecast\, City Council\, City Council Cale
 ndar\, City Council Public Comment Opportunity\, Council Meeting\, Live C
 losed Captioning\, Public Hearing\, Webcast\n\nWeb resources:\n\nhttps://
 survey.alexandriava.gov/s3/VIRTUAL-City-Council-Speakers-Form\n
DTEND:20200912T153000Z
DTSTAMP:20200904T155210Z
DTSTART:20200912T133000Z
SEQUENCE:6
STATUS:CONFIRMED
SUMMARY:VIRTUAL: City Council Public Hearing Meeting
TRANSP:TRANSPARENT
UID:b54bc7f0-9ac6-47b0-b783-dfea5049aa89
URL:https://survey.alexandriava.gov/s3/VIRTUAL-City-Council-Speakers-Form
X-ALT-DESC;FMTTYPE=text/html:To verify info please see <a href="https://ap
 ps.alexandriava.gov/Calendar/Detail.aspx?si=32179">https://apps.alexandri
 ava.gov/Calendar/Detail.aspx?si=32179</a><br />\n<br />Due to the COVID-1
 9 pandemic emergency\, the September 12\, 2020 Public Hearing meeting of 
 the Alexandria City Council is being held electronically pursuant to Virg
 inia Code Section 2.2-3708.2(A)(3)\, the Continuity of Government ordinan
 ce adopted by the City Council on June 20\, 2020 and/or Section 4.0-00(g)
  in HB29 and HB30 to undertake essential business.  All the members of th
 e City Council and staff are participating from remote locations through 
 a video conference call on Zoom.  The meeting can be accessed by the publ
 ic through the live broadcast on the government channel 70\, streaming on
  the City&#39\;s website\, and can be accessed via Zoom by the following 
 link:\n<br />\n<br />URL: https://zoom.us/webinar/register/WN_wFMTDnUHT22
 ysjjpnoAJAQ\n<br />Webinar ID: 975 9178 4491\n<br />Webinar Passcode: 348
 732\n<br />Dial-in number: 301-715-8592\n<br />\n<br />Links:\n<br />Meet
 ing agenda and Live Webcast\n<br />The meeting will be webcast live and v
 ideo and audio recording will be available a few days after the meeting.\
 n<br />\n<br />Zoom registration from\n<br />If you wish to use Zoom to w
 atch this meeting or to address Council\, you must register first.  Those
  wishing to address Council should also submit a Speaker&#39\;s Form usin
 g the link below.\n<br />\n<br />Speaker&#39\;s Form\n<br /><a href="http
 s://survey.alexandriava.gov/s3/VIRTUAL-City-Council-Speakers-Form">https:
 //survey.alexandriava.gov/s3/VIRTUAL-City-Council-Speakers-Form</a><br />
 Those wishing to address Council should submit a Speaker&#39\;s Form.  Su
 bmission of written statements is encouraged.  Please sign up after the d
 ocket is posted and you are able to verify it on the City&#39\;s website.
   If the docket is not posted\, you will have to return at a later date t
 o complete the speaker&#39\;s form in order to speak at a Council meeting
 .\n<br />\n<br />******\n<br />\n<br />Public Comment will be received at
  this meeting.\n<br />\n<br />All persons wishing to speak before City Co
 uncil must complete a Speaker&#39\;s Form.  If you have a prepared statem
 ent\, you may email it to the City Clerk at gloria.sitton@alexandriava.go
 v.  Speakers are encouraged to submit their written comments to the City 
 Clerk.\n<br />\n<br />\n<br />\n<br />\n<br />\n<br />Location:  No Locat
 ion Specified\n<br />Audience: Anyone may attend\n<br />Tags: Cablecast\,
  City Council\, City Council Calendar\, City Council Public Comment Oppor
 tunity\, Council Meeting\, Live Closed Captioning\, Public Hearing\, Webc
 ast<br>\n<a href="https://survey.alexandriava.gov/s3/VIRTUAL-City-Council
 -Speakers-Form">https://survey.alexandriava.gov/s3/VIRTUAL-City-Council-S
 peakers-Form</a><br>\n
X-COA-DTSTAMP:20200904T155210Z
END:VEVENT
END:VCALENDAR
