BEGIN:VCALENDAR
CALSCALE:GREGORIAN
METHOD:PUBLISH
PRODID:-//github.com/ical-org/ical.net//NONSGML ical.net 4.0//EN
VERSION:2.0
X-WR-TIMEZONE:US/Eastern
BEGIN:VEVENT
CATEGORIES:Apothecary Museum
CATEGORIES:Museums
DESCRIPTION:To verify info please see https://apps.alexandriava.gov/Calend
 ar/Detail.aspx?si=32124\n\nWhile OHA intended to leverage a popular annua
 l museum program to share elements of Alexandria's African American histo
 ry\, residents have raised concerns about the event being perceived as di
 srespectful. Disrespect was never our intent and we have canceled the eve
 nt. OHA strives to create historical programs that are uplifting and done
  through a lens of equity. Unfortunately\, we failed to do so with this e
 vent. We are very proud of our African American history and always want t
 o improve the visitor experience. We appreciate those community members l
 etting us know their concerns.\n\nLocation: Stabler-Leadbeater Apothecary
  Museum\, 105-107 S. Fairfax St.\nContact Email: lauren.gleason@alexandri
 ava.gov\nAudience: Anyone may attend\nTags: Apothecary Museum\, Museums
DTEND:20200801T020000Z
DTSTAMP:20200727T202212Z
DTSTART:20200801T010000Z
GEO:38.804291;-77.042693
LOCATION:Stabler-Leadbeater Apothecary Museum\, 105-107 S. Fairfax St.
SEQUENCE:8
STATUS:CANCELLED
SUMMARY:CANCELLED-Harry Potter Trivia Night
TRANSP:TRANSPARENT
UID:188f3bce-3d70-4446-a023-ebab691b4ff6
X-ALT-DESC;FMTTYPE=text/html:To verify info please see <a href="https://ap
 ps.alexandriava.gov/Calendar/Detail.aspx?si=32124">https://apps.alexandri
 ava.gov/Calendar/Detail.aspx?si=32124</a><br />\n<br />While OHA intended
  to leverage a popular annual museum program to share elements of Alexand
 ria?s African American history\, residents have raised concerns about the
  event being perceived as disrespectful. Disrespect was never our intent 
 and we have canceled the event. OHA strives to create historical programs
  that are uplifting and done through a lens of equity. Unfortunately\, we
  failed to do so with this event. We are very proud of our African Americ
 an history and always want to improve the visitor experience. We apprecia
 te those community members letting us know their concerns.\n<br />\n<br /
 >Location: Stabler-Leadbeater Apothecary Museum\, 105-107 S. Fairfax St.\
 n<br />Contact Email: lauren.gleason@alexandriava.gov\n<br />Audience: An
 yone may attend\n<br />Tags: Apothecary Museum\, Museums
X-COA-DTSTAMP:20200727T202212Z
END:VEVENT
END:VCALENDAR
