BEGIN:VCALENDAR
CALSCALE:GREGORIAN
METHOD:PUBLISH
PRODID:-//github.com/ical-org/ical.net//NONSGML ical.net 4.0//EN
VERSION:2.0
X-WR-TIMEZONE:US/Eastern
BEGIN:VEVENT
CATEGORIES:Recreation
DESCRIPTION:To verify info please see https://apps.alexandriava.gov/Calend
 ar/Detail.aspx?si=30946\n\nParkour is the practice of human locomotion th
 rough play & obstacle course.  PK Move is a unique parkour "gym without w
 alls" - we  come to you! PK Move's Mission is to provide parkour training
  that's specifically designed to meet the needs of people who may feel un
 comfortable in a gym. We serve senior citizens\, cancer survivors\, Title
  I school students\, veterans\, those with learning differences\, and oth
 ers. Our Vision is to provide parkour and natural movement programs that 
 are accessible to people of all ages and abilities. PK Move shares the tr
 ansformative power of parkour. \n\nOur Team will drop a new parkour class
  video - appropriate for kids of all ages -  every Saturday while the COV
 ID-19 Pandemic keeps us at home.\n\nLocation:  Virtual Only\nAudience: An
 yone may attend\nTags: Recreation\n\nWeb resources:\n\nhttp://www.pkmove.
 org/pk4kids.html\n
DTEND:20200516T170000Z
DTSTAMP:20200415T024325Z
DTSTART:20200516T160000Z
LOCATION: Virtual Only
SEQUENCE:5
STATUS:CONFIRMED
SUMMARY:VIRTUAL: Parkour with PK Move
TRANSP:OPAQUE
UID:e18d26f2-0702-4dad-92c4-4609dc7cfe96
URL:http://www.pkmove.org/pk4kids.html
X-ALT-DESC;FMTTYPE=text/html:To verify info please see <a href="https://ap
 ps.alexandriava.gov/Calendar/Detail.aspx?si=30946">https://apps.alexandri
 ava.gov/Calendar/Detail.aspx?si=30946</a><br />\n<br />Parkour is the pra
 ctice of human locomotion through play &amp\; obstacle course.  PK Move i
 s a unique parkour &quot\;gym without walls&quot\; - we  come to you! PK 
 Move&#39\;s Mission is to provide parkour training that&#39\;s specifical
 ly designed to meet the needs of people who may feel uncomfortable in a g
 ym. We serve senior citizens\, cancer survivors\, Title I school students
 \, veterans\, those with learning differences\, and others. Our Vision is
  to provide parkour and natural movement programs that are accessible to 
 people of all ages and abilities. PK Move shares the transformative power
  of parkour. \n<br />\n<br />Our Team will drop a new parkour class video
  - appropriate for kids of all ages -  every Saturday while the COVID-19 
 Pandemic keeps us at home.\n<br />\n<br />Location:  Virtual Only\n<br />
 Audience: Anyone may attend\n<br />Tags: Recreation<br>\n<a href="http://
 www.pkmove.org/pk4kids.html">http://www.pkmove.org/pk4kids.html</a><br>\n
X-COA-DTSTAMP:20200415T024325Z
END:VEVENT
END:VCALENDAR
