BEGIN:VCALENDAR
CALSCALE:GREGORIAN
METHOD:PUBLISH
PRODID:-//github.com/ical-org/ical.net//NONSGML ical.net 4.0//EN
VERSION:2.0
X-WR-TIMEZONE:US/Eastern
BEGIN:VEVENT
CATEGORIES:Census 2020
DESCRIPTION:To verify info please see https://apps.alexandriava.gov/Calend
 ar/Detail.aspx?si=29814\n\nBeginning March 12\, Alexandria residents will
  join households across America as they begin to receive invitations to c
 omplete the 2020 Census survey. The results of the survey will provide th
 e most complete count of current U.S. residents\, which will determine co
 ngressional representation\; inform hundreds of billions of dollars in fe
 deral funding\; and provide data that will impact communities for the nex
 t decade. As mandated by the U.S. Constitution\, the Census counts every 
 person living in the U.S. every 10 years regardless of age\, race\, or ci
 tizenship status. Participation in the Census brings resources to local c
 ommunities and guarantees fair representation in government. \n\nLocation
 :  No Location Specified\nContact Person: Brandi Collins\nContact Phone: 
 703.746.3084\nContact Email: brandi.collins@alexandriava.gov\nAudience: A
 nyone may attend\nTags: Census 2020\n\nWeb resources:\n\nhttps://alexandr
 iava.gov/Census2020\n
DTEND:20200313T030000Z
DTSTAMP:20200310T213100Z
DTSTART:20200312T040000Z
SEQUENCE:6
STATUS:CONFIRMED
SUMMARY:2020 U.S. Census Forms Mailed
TRANSP:TRANSPARENT
UID:8752044e-5443-4420-b39b-8825e889a11c
URL:https://alexandriava.gov/Census2020
X-ALT-DESC;FMTTYPE=text/html:To verify info please see <a href="https://ap
 ps.alexandriava.gov/Calendar/Detail.aspx?si=29814">https://apps.alexandri
 ava.gov/Calendar/Detail.aspx?si=29814</a><br />\n<br />Beginning March 12
 \, Alexandria residents will join households across America as they begin
  to receive invitations to complete the 2020 Census survey. The results o
 f the survey will provide the most complete count of current U.S. residen
 ts\, which will determine congressional representation\; inform hundreds 
 of billions of dollars in federal funding\; and provide data that will im
 pact communities for the next decade. As mandated by the U.S. Constitutio
 n\, the Census counts every person living in the U.S. every 10 years rega
 rdless of age\, race\, or citizenship status. Participation in the Census
  brings resources to local communities and guarantees fair representation
  in government. \n<br />\n<br />Location:  No Location Specified\n<br />C
 ontact Person: Brandi Collins\n<br />Contact Phone: 703.746.3084\n<br />C
 ontact Email: brandi.collins@alexandriava.gov\n<br />Audience: Anyone may
  attend\n<br />Tags: Census 2020<br>\n<a href="https://alexandriava.gov/C
 ensus2020">https://alexandriava.gov/Census2020</a><br>\n
X-COA-DTSTAMP:20200310T213100Z
END:VEVENT
END:VCALENDAR
