BEGIN:VCALENDAR
CALSCALE:GREGORIAN
METHOD:PUBLISH
PRODID:-//github.com/ical-org/ical.net//NONSGML ical.net 4.0//EN
VERSION:2.0
X-WR-TIMEZONE:US/Eastern
BEGIN:VEVENT
CATEGORIES:Health
DESCRIPTION:To verify info please see https://apps.alexandriava.gov/Calend
 ar/Detail.aspx?si=29802\n\nThe City\, the Alexandria Health Department\, 
 Inova Health System\, and the Alexandria City Public Schools will hold an
  online virtual information session on Thursday\, March 12\, from 8 to 9 
 p.m.\, to provide information and answer questions about the COVID-19 cor
 onavirus. The session will be accessible at alexandriava.gov/Health.   \n
 Panelists will include Dr. Stephen A. Haering\, director of the Alexandri
 a Health Department\; Dr. Rina Bansal\, president of Inova Alexandria Hos
 pital\; Dr. Gregory C. Hutchings Jr.\, superintendent of Alexandria City 
 Public Schools\; and Mark B. Jinks\, city manager. The panelists will tak
 e questions about the COVID-19 coronavirus\; how individuals can protect 
 themselves and those around them\; how government and the health care sec
 tor are preparing for additional impacts from the virus\; and how busines
 ses and nonprofit organizations can help. Questions may be submitted in a
 dvance at alexandriava.gov/Health\, or asked live during the online sessi
 on using the social media\, text message\, and phone information on the w
 ebpage. A recording of the session will be available online after the ses
 sion ends. \n\n\nLocation: City Hall\, Sister Cities Room 1101\, 301 King
  St.\nContact Person: Craig Fifer\nContact Phone: 703.746.3965\nContact E
 mail: craig.fifer@alexandriava.gov\nAudience: Anyone may attend\nTags: He
 alth\n\nWeb resources:\n\nhttps://alexandriava.gov/113992\n
DTEND:20200313T020000Z
DTSTAMP:20200303T223917Z
DTSTART:20200313T000001Z
GEO:38.805537;-77.042758
LOCATION:City Hall\, Sister Cities Room 1101\, 301 King St.
SEQUENCE:5
STATUS:CONFIRMED
SUMMARY:Virtual Information Session COVID-19 Coronavirus
TRANSP:TRANSPARENT
UID:e10ed64c-b55c-49a5-bb71-6a193ad1ff35
URL:https://alexandriava.gov/113992
X-ALT-DESC;FMTTYPE=text/html:To verify info please see <a href="https://ap
 ps.alexandriava.gov/Calendar/Detail.aspx?si=29802">https://apps.alexandri
 ava.gov/Calendar/Detail.aspx?si=29802</a><br />\n<br />The City\, the Ale
 xandria Health Department\, Inova Health System\, and the Alexandria City
  Public Schools will hold an online virtual information session on Thursd
 ay\, March 12\, from 8 to 9 p.m.\, to provide information and answer ques
 tions about the COVID-19 coronavirus. The session will be accessible at a
 lexandriava.gov/Health.   \n<br />Panelists will include Dr. Stephen A. H
 aering\, director of the Alexandria Health Department\; Dr. Rina Bansal\,
  president of Inova Alexandria Hospital\; Dr. Gregory C. Hutchings Jr.\, 
 superintendent of Alexandria City Public Schools\; and Mark B. Jinks\, ci
 ty manager. The panelists will take questions about the COVID-19 coronavi
 rus\; how individuals can protect themselves and those around them\; how 
 government and the health care sector are preparing for additional impact
 s from the virus\; and how businesses and nonprofit organizations can hel
 p. Questions may be submitted in advance at alexandriava.gov/Health\, or 
 asked live during the online session using the social media\, text messag
 e\, and phone information on the webpage. A recording of the session will
  be available online after the session ends. \n<br />\n<br />\n<br />Loca
 tion: City Hall\, Sister Cities Room 1101\, 301 King St.\n<br />Contact P
 erson: Craig Fifer\n<br />Contact Phone: 703.746.3965\n<br />Contact Emai
 l: craig.fifer@alexandriava.gov\n<br />Audience: Anyone may attend\n<br /
 >Tags: Health<br>\n<a href="https://alexandriava.gov/113992">https://alex
 andriava.gov/113992</a><br>\n
X-COA-DTSTAMP:20200303T223917Z
END:VEVENT
END:VCALENDAR
