BEGIN:VCALENDAR
CALSCALE:GREGORIAN
METHOD:PUBLISH
PRODID:-//github.com/ical-org/ical.net//NONSGML ical.net 4.0//EN
VERSION:2.0
X-WR-TIMEZONE:US/Eastern
BEGIN:VEVENT
CATEGORIES:Eco-City
CATEGORIES:Environment
CATEGORIES:Stormwater
CATEGORIES:Water
DESCRIPTION:To verify info please see https://apps.alexandriava.gov/Calend
 ar/Detail.aspx?si=29801\n\nCANCELLED: Learn how to install and maintain a
  rain barrel and take one home!\n\nLocation: Walker Nature Center\nContac
 t Person: Northern VA Soil & Water Conservation District\nContact Email: 
 rainbarrel@fairfaxcounty.gov\nAudience: Anyone may attend\nTags: Eco-City
 \, Environment\, Stormwater\, Water\n\nWeb resources:\n\nhttps://www.fair
 faxcounty.gov/soil-water-conservation/rain-barrel\n
DTEND:20200516T163000Z
DTSTAMP:20200513T220510Z
DTSTART:20200516T143000Z
LOCATION:Walker Nature Center
SEQUENCE:9
STATUS:CANCELLED
SUMMARY:CANCELLED: Build Your Own Rain Barrel Workshop
TRANSP:TRANSPARENT
UID:30ed0741-2795-4dd6-8a9f-3939e471834f
URL:https://www.fairfaxcounty.gov/soil-water-conservation/rain-barrel
X-ALT-DESC;FMTTYPE=text/html:To verify info please see <a href="https://ap
 ps.alexandriava.gov/Calendar/Detail.aspx?si=29801">https://apps.alexandri
 ava.gov/Calendar/Detail.aspx?si=29801</a><br />\n<br />CANCELLED: Learn h
 ow to install and maintain a rain barrel and take one home!\n<br />\n<br 
 />Location: Walker Nature Center\n<br />Contact Person: Northern VA Soil 
 &amp\; Water Conservation District\n<br />Contact Email: rainbarrel@fairf
 axcounty.gov\n<br />Audience: Anyone may attend\n<br />Tags: Eco-City\, E
 nvironment\, Stormwater\, Water<br>\n<a href="https://www.fairfaxcounty.g
 ov/soil-water-conservation/rain-barrel">https://www.fairfaxcounty.gov/soi
 l-water-conservation/rain-barrel</a><br>\n
X-COA-DTSTAMP:20200513T220510Z
END:VEVENT
END:VCALENDAR
