BEGIN:VCALENDAR
CALSCALE:GREGORIAN
METHOD:PUBLISH
PRODID:-//github.com/ical-org/ical.net//NONSGML ical.net 4.0//EN
VERSION:2.0
X-WR-TIMEZONE:US/Eastern
BEGIN:VEVENT
CATEGORIES:Accessory Dwelling Unit Study
CATEGORIES:Affordable Housing
CATEGORIES:Boards & Commissions
CATEGORIES:Community Meeting
CATEGORIES:Community Outreach
CATEGORIES:Planning Meeting
CATEGORIES:Zoning
DESCRIPTION:To verify info please see https://apps.alexandriava.gov/Calend
 ar/Detail.aspx?si=29781\n\nCANCELLED - Accessory Dwelling Unit Study Comm
 unity Meeting\n\nLocation: Mt. Vernon Rec Center\, 2701 Commonwealth Ave.
 \nContact Person: Sam Shelby\nContact Phone: 703.746.3865\nContact Email:
  sam.shelby@alexandriava.gov\nAudience: Anyone may attend\nTags: Accessor
 y Dwelling Unit Study\, Affordable Housing\, Boards & Commissions\, Commu
 nity Meeting\, Community Outreach\, Planning Meeting\, Zoning\n\nWeb reso
 urces:\n\nhttps://www.alexandriava.gov/planning/info/default.aspx?id=1138
 72\n
DTEND:20200313T003000Z
DTSTAMP:20200312T200618Z
DTSTART:20200312T223000Z
GEO:38.828709;-77.060096
LOCATION:Mt. Vernon Rec Center\, 2701 Commonwealth Ave.
SEQUENCE:8
STATUS:CANCELLED
SUMMARY:CANCELLED - Accessory Dwelling Unit Community Mtg
TRANSP:TRANSPARENT
UID:19cffab3-8088-409a-a12f-765899547e62
URL:https://www.alexandriava.gov/planning/info/default.aspx?id=113872
X-ALT-DESC;FMTTYPE=text/html:To verify info please see <a href="https://ap
 ps.alexandriava.gov/Calendar/Detail.aspx?si=29781">https://apps.alexandri
 ava.gov/Calendar/Detail.aspx?si=29781</a><br />\n<br />CANCELLED - Access
 ory Dwelling Unit Study Community Meeting\n<br />\n<br />Location: Mt. Ve
 rnon Rec Center\, 2701 Commonwealth Ave.\n<br />Contact Person: Sam Shelb
 y\n<br />Contact Phone: 703.746.3865\n<br />Contact Email: sam.shelby@ale
 xandriava.gov\n<br />Audience: Anyone may attend\n<br />Tags: Accessory D
 welling Unit Study\, Affordable Housing\, Boards &amp\; Commissions\, Com
 munity Meeting\, Community Outreach\, Planning Meeting\, Zoning<br>\n<a h
 ref="https://www.alexandriava.gov/planning/info/default.aspx?id=113872">h
 ttps://www.alexandriava.gov/planning/info/default.aspx?id=113872</a><br>\
 n
X-COA-DTSTAMP:20200312T200618Z
END:VEVENT
END:VCALENDAR
