BEGIN:VCALENDAR
CALSCALE:GREGORIAN
METHOD:PUBLISH
PRODID:-//github.com/ical-org/ical.net//NONSGML ical.net 4.0//EN
VERSION:2.0
X-WR-TIMEZONE:US/Eastern
BEGIN:VEVENT
CATEGORIES:Adult
CATEGORIES:Boards & Commissions
CATEGORIES:Commission Meeting
CATEGORIES:Mt. Vernon Ave.
CATEGORIES:Seniors
DESCRIPTION:To verify info please see https://apps.alexandriava.gov/Calend
 ar/Detail.aspx?si=29759\n\nRegular Monthly Meeting\n\nLocation: Aging & A
 dult Services\, 6101 Stevenson Avenue\, First Floor\nContact Person: Debb
 ie Ludington\nContact Phone: 703.746.5694\nAudience: Anyone may attend\nT
 ags: Adult\, Boards & Commissions\, Commission Meeting\, Mt. Vernon Ave.\
 , Seniors\n\nWeb resources:\n\nhttps://www.alexandriava.gov/Boards\n
DTEND:20200312T220000Z
DTSTAMP:20200312T191447Z
DTSTART:20200312T200000Z
LOCATION:Aging & Adult Services\, 6101 Stevenson Avenue\, First Floor
SEQUENCE:6
STATUS:CANCELLED
SUMMARY:CANCELLED: Commission on Aging -Full Commission
TRANSP:TRANSPARENT
UID:4400fd9e-1654-4a47-9c60-fbd0d240cd0d
URL:https://www.alexandriava.gov/Boards
X-ALT-DESC;FMTTYPE=text/html:To verify info please see <a href="https://ap
 ps.alexandriava.gov/Calendar/Detail.aspx?si=29759">https://apps.alexandri
 ava.gov/Calendar/Detail.aspx?si=29759</a><br />\n<br />Regular Monthly Me
 eting\n<br />\n<br />Location: Aging &amp\; Adult Services\, 6101 Stevens
 on Avenue\, First Floor\n<br />Contact Person: Debbie Ludington\n<br />Co
 ntact Phone: 703.746.5694\n<br />Audience: Anyone may attend\n<br />Tags:
  Adult\, Boards &amp\; Commissions\, Commission Meeting\, Mt. Vernon Ave.
 \, Seniors<br>\n<a href="https://www.alexandriava.gov/Boards">https://www
 .alexandriava.gov/Boards</a><br>\n
X-COA-DTSTAMP:20200312T191447Z
END:VEVENT
END:VCALENDAR
