BEGIN:VCALENDAR
CALSCALE:GREGORIAN
METHOD:PUBLISH
PRODID:-//github.com/ical-org/ical.net//NONSGML ical.net 4.0//EN
VERSION:2.0
X-WR-TIMEZONE:US/Eastern
BEGIN:VEVENT
CATEGORIES:Carlyle Eisenhower East
CATEGORIES:Community Outreach
DESCRIPTION:To verify info please see https://apps.alexandriava.gov/Calend
 ar/Detail.aspx?si=29714\n\nCancelled: Saturday Cinema Series in Carlyle -
  begins at sunset\n\nLocation: John Carlyle Park\, 300 John Carlyle St.\n
 Contact Email: CVIevents@outlook.com\nAudience: Anyone may attend\nTags: 
 Carlyle Eisenhower East\, Community Outreach\n\nWeb resources:\n\nhttps:/
 /www.alexandriava.gov/Carlyle\n
DTEND:20200517T020000Z
DTSTAMP:20200430T194337Z
DTSTART:20200517T000001Z
GEO:38.803698;-77.061582
LOCATION:John Carlyle Park\, 300 John Carlyle St.
SEQUENCE:6
STATUS:CANCELLED
SUMMARY:CANCELLED: Carlyle Vitality Saturday Cinema Series
TRANSP:TRANSPARENT
UID:988d4f5b-4c5f-4324-a673-1ba3acdd5b6f
URL:https://www.alexandriava.gov/Carlyle
X-ALT-DESC;FMTTYPE=text/html:To verify info please see <a href="https://ap
 ps.alexandriava.gov/Calendar/Detail.aspx?si=29714">https://apps.alexandri
 ava.gov/Calendar/Detail.aspx?si=29714</a><br />\n<br />Cancelled: Saturda
 y Cinema Series in Carlyle - begins at sunset\n<br />\n<br />Location: Jo
 hn Carlyle Park\, 300 John Carlyle St.\n<br />Contact Email: CVIevents@ou
 tlook.com\n<br />Audience: Anyone may attend\n<br />Tags: Carlyle Eisenho
 wer East\, Community Outreach<br>\n<a href="https://www.alexandriava.gov/
 Carlyle">https://www.alexandriava.gov/Carlyle</a><br>\n
X-COA-DTSTAMP:20200430T194337Z
END:VEVENT
END:VCALENDAR
