BEGIN:VCALENDAR
CALSCALE:GREGORIAN
METHOD:PUBLISH
PRODID:-//github.com/ical-org/ical.net//NONSGML ical.net 4.0//EN
VERSION:2.0
X-WR-TIMEZONE:US/Eastern
BEGIN:VEVENT
CATEGORIES:Adult
CATEGORIES:Arts
CATEGORIES:Author Reading
CATEGORIES:Awareness Month
CATEGORIES:Concerts
CATEGORIES:King St. Metro
CATEGORIES:King Street
CATEGORIES:Marina
CATEGORIES:Old & Historic Alexandria
CATEGORIES:Old Town
CATEGORIES:Performing Arts
CATEGORIES:Recreation
CATEGORIES:Torpedo Factory Art Center
CATEGORIES:Tourism
CATEGORIES:Visual Arts
DESCRIPTION:To verify info please see https://apps.alexandriava.gov/Calend
 ar/Detail.aspx?si=29460\n\nIn honor of Armed Forces Day\, salute our serv
 ice men and women with\nan evening line-up of comedy\, music\, storytelli
 ng\, poetry\, and art. This\nevent is in partnership with Community Build
 ing Art Works and Armed\nServices Arts Partnership.\n\nLocation: Torpedo 
 Factory\, 105 N. Union St.\nContact Phone: 703.746.4570\nContact Email: t
 orpedofactory@alexandriava.gov\nAudience: Anyone may attend\nTags: Adult\
 , Arts\, Author Reading\, Awareness Month\, Concerts\, King St. Metro\, K
 ing Street\, Marina\, Old & Historic Alexandria\, Old Town\, Performing A
 rts\, Recreation\, Torpedo Factory Art Center\, Tourism\, Visual Arts\n\n
 Web resources:\n\nhttp://torpedofactory.org/event/arts-the-armed-forces/\
 n
DTEND:20200517T010000Z
DTSTAMP:20200402T194540Z
DTSTART:20200516T230000Z
GEO:38.804902;-77.040017
LOCATION:Torpedo Factory\, 105 N. Union St.
SEQUENCE:6
STATUS:CANCELLED
SUMMARY:CANCELLED: Arts & the Armed Forces
TRANSP:TRANSPARENT
UID:fa40aedd-090b-4260-bc23-f6a09280a23f
URL:http://torpedofactory.org/event/arts-the-armed-forces/
X-ALT-DESC;FMTTYPE=text/html:To verify info please see <a href="https://ap
 ps.alexandriava.gov/Calendar/Detail.aspx?si=29460">https://apps.alexandri
 ava.gov/Calendar/Detail.aspx?si=29460</a><br />\n<br />In honor of Armed 
 Forces Day\, salute our service men and women with\n<br />an evening line
 -up of comedy\, music\, storytelling\, poetry\, and art. This\n<br />even
 t is in partnership with Community Building Art Works and Armed\n<br />Se
 rvices Arts Partnership.\n<br />\n<br />Location: Torpedo Factory\, 105 N
 . Union St.\n<br />Contact Phone: 703.746.4570\n<br />Contact Email: torp
 edofactory@alexandriava.gov\n<br />Audience: Anyone may attend\n<br />Tag
 s: Adult\, Arts\, Author Reading\, Awareness Month\, Concerts\, King St. 
 Metro\, King Street\, Marina\, Old &amp\; Historic Alexandria\, Old Town\
 , Performing Arts\, Recreation\, Torpedo Factory Art Center\, Tourism\, V
 isual Arts<br>\n<a href="http://torpedofactory.org/event/arts-the-armed-f
 orces/">http://torpedofactory.org/event/arts-the-armed-forces/</a><br>\n
X-COA-DTSTAMP:20200402T194540Z
END:VEVENT
END:VCALENDAR
