BEGIN:VCALENDAR
CALSCALE:GREGORIAN
METHOD:PUBLISH
PRODID:-//github.com/ical-org/ical.net//NONSGML ical.net 4.0//EN
VERSION:2.0
X-WR-TIMEZONE:US/Eastern
BEGIN:VEVENT
CATEGORIES:Carlyle Eisenhower East
CATEGORIES:Community Outreach
DESCRIPTION:To verify info please see https://apps.alexandriava.gov/Calend
 ar/Detail.aspx?si=29456\n\nCancelled: Enjoy brunch and join us for a loos
 e tea workshop!\n\nLocation: Trademark Drink and Eat\nContact Person: Rox
 anne Wilson\nContact Email: CVIevents@outlook.com\nAudience: Anyone may a
 ttend\nTags: Carlyle Eisenhower East\, Community Outreach\n\nWeb resource
 s:\n\nhttps://www.alexandriava.gov/Carlyle\n
DTEND:20200516T153000Z
DTSTAMP:20200430T194230Z
DTSTART:20200516T133000Z
GEO:38.803222;-77.065462
LOCATION:Trademark Drink and Eat
SEQUENCE:8
STATUS:CANCELLED
SUMMARY:CANCELLED: Carlyle DIY Activity & Brunch Series
TRANSP:TRANSPARENT
UID:3b1f34e4-0f50-4ced-8cff-aadb7f7d50b6
URL:https://www.alexandriava.gov/Carlyle
X-ALT-DESC;FMTTYPE=text/html:To verify info please see <a href="https://ap
 ps.alexandriava.gov/Calendar/Detail.aspx?si=29456">https://apps.alexandri
 ava.gov/Calendar/Detail.aspx?si=29456</a><br />\n<br />Cancelled: Enjoy b
 runch and join us for a loose tea workshop!\n<br />\n<br />Location: Trad
 emark Drink and Eat\n<br />Contact Person: Roxanne Wilson\n<br />Contact 
 Email: CVIevents@outlook.com\n<br />Audience: Anyone may attend\n<br />Ta
 gs: Carlyle Eisenhower East\, Community Outreach<br>\n<a href="https://ww
 w.alexandriava.gov/Carlyle">https://www.alexandriava.gov/Carlyle</a><br>\
 n
X-COA-DTSTAMP:20200430T194230Z
END:VEVENT
END:VCALENDAR
