BEGIN:VCALENDAR
CALSCALE:GREGORIAN
METHOD:PUBLISH
PRODID:-//github.com/ical-org/ical.net//NONSGML ical.net 4.0//EN
VERSION:2.0
X-WR-TIMEZONE:US/Eastern
BEGIN:VEVENT
CATEGORIES:Boards & Commissions
CATEGORIES:Business Development
DESCRIPTION:To verify info please see https://apps.alexandriava.gov/Calend
 ar/Detail.aspx?si=29160\n\nRegular Board of Directors Meeting\nWe will be
  holding it virtually\, via Zoom.  Registration link: https://us02web.zoo
 m.us/webinar/register/WN_w4bnBchLQjueVEPtqS8BYw\n\n\nLocation:  Virtual O
 nly\nContact Person: Ashley Bayana\nContact Phone: 703.652.5345\nContact 
 Email: bayana@alexcon.org\nAudience: Anyone may attend\nTags: Boards & Co
 mmissions\, Business Development
DTEND:20200423T140000Z
DTSTAMP:20200417T214152Z
DTSTART:20200423T120000Z
LOCATION: Virtual Only
SEQUENCE:9
STATUS:CONFIRMED
SUMMARY:VIRTUAL: Alexandria Economic Development Partnership
TRANSP:OPAQUE
UID:a1cc12fd-6710-4637-969e-455f187f1fce
X-ALT-DESC;FMTTYPE=text/html:To verify info please see <a href="https://ap
 ps.alexandriava.gov/Calendar/Detail.aspx?si=29160">https://apps.alexandri
 ava.gov/Calendar/Detail.aspx?si=29160</a><br />\n<br />Regular Board of D
 irectors Meeting\n<br />We will be holding it virtually\, via Zoom.  Regi
 stration link: https://us02web.zoom.us/webinar/register/WN_w4bnBchLQjueVE
 PtqS8BYw\n<br />\n<br />\n<br />Location:  Virtual Only\n<br />Contact Pe
 rson: Ashley Bayana\n<br />Contact Phone: 703.652.5345\n<br />Contact Ema
 il: bayana@alexcon.org\n<br />Audience: Anyone may attend\n<br />Tags: Bo
 ards &amp\; Commissions\, Business Development
X-COA-DTSTAMP:20200417T214152Z
END:VEVENT
END:VCALENDAR
