BEGIN:VCALENDAR
CALSCALE:GREGORIAN
METHOD:PUBLISH
PRODID:-//github.com/ical-org/ical.net//NONSGML ical.net 4.0//EN
VERSION:2.0
X-WR-TIMEZONE:US/Eastern
BEGIN:VEVENT
CATEGORIES:Budget
CATEGORIES:Budget2021
CATEGORIES:City Council
CATEGORIES:City Council Calendar
CATEGORIES:Community Meeting
CATEGORIES:Council Meeting
CATEGORIES:Special Meeting
DESCRIPTION:To verify info please see https://apps.alexandriava.gov/Calend
 ar/Detail.aspx?si=28037\n\nWork session\n\nLocation: City Hall\, Council 
 Chamber\, 301 King St.\nAudience: Anyone may attend\nTags: Budget\, Budge
 t2021\, City Council\, City Council Calendar\, Community Meeting\, Counci
 l Meeting\, Special Meeting
DTEND:20200312T010000Z
DTSTAMP:20200309T180105Z
DTSTART:20200311T230000Z
GEO:38.805393;-77.043273
LOCATION:City Hall\, Council Chamber\, 301 King St.
SEQUENCE:8
STATUS:CONFIRMED
SUMMARY:Budget Work Session # 4 -  Employee Compensation
TRANSP:OPAQUE
UID:f8b5efdb-c629-4135-9767-4e6bba610221
X-ALT-DESC;FMTTYPE=text/html:To verify info please see <a href="https://ap
 ps.alexandriava.gov/Calendar/Detail.aspx?si=28037">https://apps.alexandri
 ava.gov/Calendar/Detail.aspx?si=28037</a><br />\n<br />Work session\n<br 
 />\n<br />Location: City Hall\, Council Chamber\, 301 King St.\n<br />Aud
 ience: Anyone may attend\n<br />Tags: Budget\, Budget2021\, City Council\
 , City Council Calendar\, Community Meeting\, Council Meeting\, Special M
 eeting
X-COA-DTSTAMP:20200309T180105Z
END:VEVENT
END:VCALENDAR
