BEGIN:VCALENDAR
CALSCALE:GREGORIAN
METHOD:PUBLISH
PRODID:-//github.com/ical-org/ical.net//NONSGML ical.net 4.0//EN
VERSION:2.0
X-WR-TIMEZONE:US/Eastern
BEGIN:VEVENT
CATEGORIES:Boards & Commissions
CATEGORIES:Business Development
CATEGORIES:Commission Meeting
CATEGORIES:King Street
CATEGORIES:Tourism
DESCRIPTION:To verify info please see https://apps.alexandriava.gov/Calend
 ar/Detail.aspx?si=27810\n\nVisit Alexandria 2019 Annual Member Meeting\n\
 n5:00-7:30 PM\nBirchmere Music Hall\n3701 Mount Vernon Avenue\, Alexandri
 a\, VA 22305\nRegistration required by Sept. 20\n$25 Members | $55 Non-Me
 mbers\n\n\nLocation: Birchmere\nContact Person: Patricia Washington\nCont
 act Phone: 703.652.5362\nFees: $25 Members | $55 Non-Members\nAudience: A
 nyone may attend\nTags: Boards & Commissions\, Business Development\, Com
 mission Meeting\, King Street\, Tourism\n\nWeb resources:\n\nhttps://ALXA
 nnual2019.eventbrite.com//\n
DTEND:20190923T233000Z
DTSTAMP:20190916T173658Z
DTSTART:20190923T210000Z
GEO:38.839674;-77.061903
LOCATION:Birchmere
SEQUENCE:6
STATUS:CONFIRMED
SUMMARY:Visit Alexandria 2019 Annual Member Meeting
TRANSP:OPAQUE
UID:ead94d91-8f17-42ea-8834-e86b53e04f12
URL:https://ALXAnnual2019.eventbrite.com//
X-ALT-DESC;FMTTYPE=text/html:To verify info please see <a href="https://ap
 ps.alexandriava.gov/Calendar/Detail.aspx?si=27810">https://apps.alexandri
 ava.gov/Calendar/Detail.aspx?si=27810</a><br />\n<br />Visit Alexandria 2
 019 Annual Member Meeting\n<br />\n<br />5:00-7:30 PM\n<br />Birchmere Mu
 sic Hall\n<br />3701 Mount Vernon Avenue\, Alexandria\, VA 22305\n<br />R
 egistration required by Sept. 20\n<br />$25 Members | $55 Non-Members\n<b
 r />\n<br />\n<br />Location: Birchmere\n<br />Contact Person: Patricia W
 ashington\n<br />Contact Phone: 703.652.5362\n<br />Fees: $25 Members | $
 55 Non-Members\n<br />Audience: Anyone may attend\n<br />Tags: Boards &am
 p\; Commissions\, Business Development\, Commission Meeting\, King Street
 \, Tourism<br>\n<a href="https://ALXAnnual2019.eventbrite.com//">https://
 ALXAnnual2019.eventbrite.com//</a><br>\n
X-COA-DTSTAMP:20190916T173658Z
END:VEVENT
END:VCALENDAR
