BEGIN:VCALENDAR
CALSCALE:GREGORIAN
METHOD:PUBLISH
PRODID:-//github.com/ical-org/ical.net//NONSGML ical.net 4.0//EN
VERSION:2.0
X-WR-TIMEZONE:US/Eastern
BEGIN:VEVENT
CATEGORIES:Cablecast
CATEGORIES:City Council
CATEGORIES:City Council Calendar
CATEGORIES:City Council Public Comment Opportunity
CATEGORIES:City Hall
CATEGORIES:Council Meeting
CATEGORIES:Live Closed Captioning
CATEGORIES:Public Hearing
CATEGORIES:Webcast
DESCRIPTION:To verify info please see https://apps.alexandriava.gov/Calend
 ar/Detail.aspx?si=27762\n\nThe May 16\, 2020 public hearing meeting of th
 e City Council is being held electronically pursuant to Virginia Code Sec
 tion 2.2-3708.2(A)(3)\, the Continuity of Government ordinance adopted by
  City Council on April 18\, 2020 or Section 4-0.00(g) in HB29 and HB30 to
  undertake essential business. All of the members of the City Council and
  staff are participating from remote locations through a video conference
  call on Zoom. The public may access the meeting and make public comments
  through the video conference call. The video conference call will be bro
 adcast live on the government channel 70\, streaming on the City's websit
 e and through Zoom at the link below or Dial 301-715-8592\; Webinar ID: 9
 42-4892-5477 Password: 889448\n\nPublic Comment will be received at this 
 meeting.\n\nAll persons wishing to speak before City Council must complet
 e a Speaker's Form.  If you have a prepared statement\, you may email it 
 to the City Clerk at gloria.sitton@alexandriava.gov.  Speakers are encour
 aged to submit their written comments to the City Clerk.\n\nLocation:  Vi
 rtual Only\nAudience: Anyone may attend\nTags: Cablecast\, City Council\,
  City Council Calendar\, City Council Public Comment Opportunity\, City H
 all\, Council Meeting\, Live Closed Captioning\, Public Hearing\, Webcast
 \n\nWeb resources:\n\nMeeting Agenda and Live Webcast\nhttps://www.alexan
 driava.gov/Dockets\nThe meeting will be webcast live and video and audio 
 recordings will be available a few days after the meeting.\n\nSpeakers Fo
 rm\nhttps://survey.alexandriava.gov/s3/VIRTUAL-City-Council-Speakers-Form
 \nThose wishing to address Council should submit a Speakers Form. Submiss
 ion of written statements is encouraged.\n
DTEND:20200516T213000Z
DTSTAMP:20200514T191329Z
DTSTART:20200516T133000Z
LOCATION: Virtual Only
SEQUENCE:11
STATUS:CONFIRMED
SUMMARY:VIRTUAL: City Council Public Hearing
TRANSP:TRANSPARENT
UID:0350d81c-e61e-47fa-93ec-60fbe0d70e66
URL:https://www.alexandriava.gov/Dockets
X-ALT-DESC;FMTTYPE=text/html:To verify info please see <a href="https://ap
 ps.alexandriava.gov/Calendar/Detail.aspx?si=27762">https://apps.alexandri
 ava.gov/Calendar/Detail.aspx?si=27762</a><br />\n<br />The May 16\, 2020 
 public hearing meeting of the City Council is being held electronically p
 ursuant to Virginia Code Section 2.2-3708.2(A)(3)\, the Continuity of Gov
 ernment ordinance adopted by City Council on April 18\, 2020 or Section 4
 -0.00(g) in HB29 and HB30 to undertake essential business. All of the mem
 bers of the City Council and staff are participating from remote location
 s through a video conference call on Zoom. The public may access the meet
 ing and make public comments through the video conference call. The video
  conference call will be broadcast live on the government channel 70\, st
 reaming on the City?s website and through Zoom at the link below or Dial 
 301-715-8592\; Webinar ID: 942-4892-5477 Password: 889448\n<br />\n<br />
 Public Comment will be received at this meeting.\n<br />\n<br />All perso
 ns wishing to speak before City Council must complete a Speaker&#39\;s Fo
 rm.  If you have a prepared statement\, you may email it to the City Cler
 k at gloria.sitton@alexandriava.gov.  Speakers are encouraged to submit t
 heir written comments to the City Clerk.\n<br />\n<br />Location:  Virtua
 l Only\n<br />Audience: Anyone may attend\n<br />Tags: Cablecast\, City C
 ouncil\, City Council Calendar\, City Council Public Comment Opportunity\
 , City Hall\, Council Meeting\, Live Closed Captioning\, Public Hearing\,
  Webcast<br>\n<a href="https://www.alexandriava.gov/Dockets">Meeting Agen
 da and Live Webcast</a><br>\nThe meeting will be webcast live and video a
 nd audio recordings will be available a few days after the meeting.<br>\n
 <a href="https://survey.alexandriava.gov/s3/VIRTUAL-City-Council-Speakers
 -Form">Speakers Form</a><br>\nThose wishing to address Council should sub
 mit a Speakers Form. Submission of written statements is encouraged.<br>\
 n
X-COA-DTSTAMP:20200514T191329Z
END:VEVENT
END:VCALENDAR
