BEGIN:VCALENDAR
CALSCALE:GREGORIAN
METHOD:PUBLISH
PRODID:-//github.com/ical-org/ical.net//NONSGML ical.net 4.0//EN
VERSION:2.0
X-WR-TIMEZONE:US/Eastern
BEGIN:VEVENT
CATEGORIES:Concerts
CATEGORIES:Museums
CATEGORIES:Old Town
DESCRIPTION:To verify info please see https://apps.alexandriava.gov/Calend
 ar/Detail.aspx?si=19084\n\nJoin us in Old Town Alexandria each second Fri
 day of the month for a concert sponsored by The Folklore Society of Great
 er Washington (FSGW) and The Office of Historic Alexandria. Locations wil
 l rotate between the Murray-Dick-Fawcett House (517 Prince Street)\, Lloy
 d House (220 North Washington Street)\, and The Lyceum\, Alexandria's His
 tory Museum (201 South Washington Street). The seventh concert\, Friday\,
  November 9 will be held at the Lloyd House. This concert features Cold C
 hocolate.\n\nLocation: Lloyd House\, 220 N. Washington St.\nContact Phone
 : 703.746.4994\nFees: $15 suggested donation for the musicians\, light re
 freshments available\, and a cash bar.\nAudience: Anyone may attend\nTags
 : Concerts\, Museums\, Old Town
DTEND:20181110T010000Z
DTSTAMP:20180504T194103Z
DTSTART:20181109T230000Z
GEO:38.807209;-77.046797
LOCATION:Lloyd House\, 220 N. Washington St.
SEQUENCE:5
STATUS:CONFIRMED
SUMMARY:After Work Concert Series
TRANSP:TRANSPARENT
UID:646e0b68-8ba6-43ef-8e1a-b34245b2563f
X-ALT-DESC;FMTTYPE=text/html:To verify info please see <a href="https://ap
 ps.alexandriava.gov/Calendar/Detail.aspx?si=19084">https://apps.alexandri
 ava.gov/Calendar/Detail.aspx?si=19084</a><br />\n<br />Join us in Old Tow
 n Alexandria each second Friday of the month for a concert sponsored by T
 he Folklore Society of Greater Washington (FSGW) and The Office of Histor
 ic Alexandria. Locations will rotate between the Murray-Dick-Fawcett Hous
 e (517 Prince Street)\, Lloyd House (220 North Washington Street)\, and T
 he Lyceum\, Alexandria?s History Museum (201 South Washington Street). Th
 e seventh concert\, Friday\, November 9 will be held at the Lloyd House. 
 This concert features Cold Chocolate.\n<br />\n<br />Location: Lloyd Hous
 e\, 220 N. Washington St.\n<br />Contact Phone: 703.746.4994\n<br />Fees:
  $15 suggested donation for the musicians\, light refreshments available\
 , and a cash bar.\n<br />Audience: Anyone may attend\n<br />Tags: Concert
 s\, Museums\, Old Town
X-COA-DTSTAMP:20180504T194103Z
END:VEVENT
END:VCALENDAR
