BEGIN:VCALENDAR
CALSCALE:GREGORIAN
METHOD:PUBLISH
PRODID:-//github.com/ical-org/ical.net//NONSGML ical.net 4.0//EN
VERSION:2.0
X-WR-TIMEZONE:US/Eastern
BEGIN:VEVENT
CATEGORIES:Adult
CATEGORIES:Museums
DESCRIPTION:To verify info please see https://apps.alexandriava.gov/Calend
 ar/Detail.aspx?si=16800\n\nEnjoy a selection of ciders from more than 9 V
 irginia cideries. Ticket includes tastings\, a souvenir glass\, live musi
 c\, and special tasting talks.  Food available for purchase. Dress for th
 e weather - this event is outdoors! \n\nLocation: Lloyd House\, 220 N. Wa
 shington St.\nContact Phone: 703.746.4554\nContact Email: historicalexand
 ria@alexandriava.gov\nFees: Tickets are $45 per person online and $55 at 
 the door. Reservations recommended: online at Alexandriava.gov/Shop or by
  calling 703.746.4554.\nAudience: Anyone may attend\nTags: Adult\, Museum
 s\n\nWeb resources:\n\nhttps://shop.alexandriava.gov/Events.aspx\n
DTEND:20171118T230000Z
DTSTAMP:20171116T200319Z
DTSTART:20171118T190000Z
GEO:38.807209;-77.046797
LOCATION:Lloyd House\, 220 N. Washington St.
SEQUENCE:7
STATUS:CONFIRMED
SUMMARY:Alexandria Virginia Cider Festival
TRANSP:OPAQUE
UID:b904174c-4f87-428b-9aef-aec52c55afa1
URL:https://shop.alexandriava.gov/Events.aspx
X-ALT-DESC;FMTTYPE=text/html:To verify info please see <a href="https://ap
 ps.alexandriava.gov/Calendar/Detail.aspx?si=16800">https://apps.alexandri
 ava.gov/Calendar/Detail.aspx?si=16800</a><br />\n<br />Enjoy a selection 
 of ciders from more than 9 Virginia cideries. Ticket includes tastings\, 
 a souvenir glass\, live music\, and special tasting talks.  Food availabl
 e for purchase. Dress for the weather ? this event is outdoors! \n<br />\
 n<br />Location: Lloyd House\, 220 N. Washington St.\n<br />Contact Phone
 : 703.746.4554\n<br />Contact Email: historicalexandria@alexandriava.gov\
 n<br />Fees: Tickets are $45 per person online and $55 at the door. Reser
 vations recommended: online at Alexandriava.gov/Shop or by calling 703.74
 6.4554.\n<br />Audience: Anyone may attend\n<br />Tags: Adult\, Museums<b
 r>\n<a href="https://shop.alexandriava.gov/Events.aspx">https://shop.alex
 andriava.gov/Events.aspx</a><br>\n
X-COA-DTSTAMP:20171116T200319Z
END:VEVENT
END:VCALENDAR
