BEGIN:VCALENDAR
CALSCALE:GREGORIAN
METHOD:PUBLISH
PRODID:-//github.com/ical-org/ical.net//NONSGML ical.net 4.0//EN
VERSION:2.0
X-WR-TIMEZONE:US/Eastern
BEGIN:VEVENT
CATEGORIES:Halloween
CATEGORIES:Living History
CATEGORIES:Lyceum
CATEGORIES:Museums
CATEGORIES:Old & Historic Alexandria
DESCRIPTION:To verify info please see https://apps.alexandriava.gov/Calend
 ar/Detail.aspx?si=16679\n\nDon't miss two unforgettable Halloween evening
 s with America's earliest master of the macabre - Edgar Allen Poe! Actor 
 David Keltz returns to The Lyceum's lecture hall to re-create Poe's visit
  to Virginia in 1849\, shortly before his death. Individual works perform
 ed each year vary\, but the program always includes a chilling story or t
 wo such as "The Black Cat\," "The Cask of Amontillado\," or "The Tell-Tal
 e Heart\," along with well-known poems "The Raven" and "El Dorado." Mr. K
 elz's performance has been lauded by The Poe House and Museum in Baltimor
 e\, The Poe Museum in Richmond\, and the Poe National Historic Site in Ph
 iladelphia.\n\nLocation: Lyceum\nContact Phone: 703.746.4994\nFees: $15\n
 Audience: Anyone may attend\nTags: Halloween\, Living History\, Lyceum\, 
 Museums\, Old & Historic Alexandria\n\nWeb resources:\n\nhttps://shop.ale
 xandriava.gov/SelectEvent.aspx\n
DTEND:20171101T011500Z
DTSTAMP:20171019T142719Z
DTSTART:20171101T000001Z
LOCATION:Lyceum
SEQUENCE:6
STATUS:CONFIRMED
SUMMARY:Poe in Alexandria
TRANSP:TRANSPARENT
UID:071ba0c7-9f19-4b91-ae87-9802894c01ec
URL:https://shop.alexandriava.gov/SelectEvent.aspx
X-ALT-DESC;FMTTYPE=text/html:To verify info please see <a href="https://ap
 ps.alexandriava.gov/Calendar/Detail.aspx?si=16679">https://apps.alexandri
 ava.gov/Calendar/Detail.aspx?si=16679</a><br />\n<br />Don&#39\;t miss tw
 o unforgettable Halloween evenings with America?s earliest master of the 
 macabre - Edgar Allen Poe! Actor David Keltz returns to The Lyceum?s lect
 ure hall to re-create Poe?s visit to Virginia in 1849\, shortly before hi
 s death. Individual works performed each year vary\, but the program alwa
 ys includes a chilling story or two such as ?The Black Cat\,? ?The Cask o
 f Amontillado\,? or ?The Tell-Tale Heart\,? along with well-known poems ?
 The Raven? and ?El Dorado.? Mr. Kelz?s performance has been lauded by The
  Poe House and Museum in Baltimore\, The Poe Museum in Richmond\, and the
  Poe National Historic Site in Philadelphia.\n<br />\n<br />Location: Lyc
 eum\n<br />Contact Phone: 703.746.4994\n<br />Fees: $15\n<br />Audience: 
 Anyone may attend\n<br />Tags: Halloween\, Living History\, Lyceum\, Muse
 ums\, Old &amp\; Historic Alexandria<br>\n<a href="https://shop.alexandri
 ava.gov/SelectEvent.aspx">https://shop.alexandriava.gov/SelectEvent.aspx<
 /a><br>\n
X-COA-DTSTAMP:20171019T142719Z
END:VEVENT
END:VCALENDAR
