BEGIN:VCALENDAR
CALSCALE:GREGORIAN
METHOD:PUBLISH
PRODID:-//github.com/ical-org/ical.net//NONSGML ical.net 4.0//EN
VERSION:2.0
X-WR-TIMEZONE:US/Eastern
BEGIN:VEVENT
CATEGORIES:Family
CATEGORIES:Food
CATEGORIES:Old Town
CATEGORIES:Parks
CATEGORIES:Recreation
CATEGORIES:Volunteer
CATEGORIES:Waterfront
DESCRIPTION:To verify info please see https://apps.alexandriava.gov/Calend
 ar/Detail.aspx?si=15896\n\nEvent to celebrate the 241st birthday of the U
 SA and the 268th birthday of the City of Alexandria\, featuring entertain
 ment\, cannon salute during the 1812 Overture\, food and beverage sales\,
  and grand Finale fireworks at 9:30.  Come celebrate at the biggest party
  in the City!\n\nLocation: Oronoco Bay Park\, 100 Madison St.\nContact Pe
 rson: Special Events Hotline\nContact Phone: 703.746.5592\nFees: food and
  beverage sales\nAudience: Anyone may attend\nTags: Family\, Food\, Old T
 own\, Parks\, Recreation\, Volunteer\, Waterfront\n\nWeb resources:\n\nht
 tps://www.alexandriava.gov/uploadedFiles/recreation/WebBoxes/BirthdayFlye
 r.pdf\n
DTEND:20170709T020000Z
DTSTAMP:20170623T161729Z
DTSTART:20170708T210000Z
GEO:38.811314;-77.039566
LOCATION:Oronoco Bay Park\, 100 Madison St.
SEQUENCE:8
STATUS:CONFIRMED
SUMMARY:USA/Alexandria Birthday Celebration
TRANSP:TRANSPARENT
UID:c9a98b63-fd48-447e-9d0f-1d14ded362ab
URL:https://www.alexandriava.gov/uploadedFiles/recreation/WebBoxes/Birthda
 yFlyer.pdf
X-ALT-DESC;FMTTYPE=text/html:To verify info please see <a href="https://ap
 ps.alexandriava.gov/Calendar/Detail.aspx?si=15896">https://apps.alexandri
 ava.gov/Calendar/Detail.aspx?si=15896</a><br />\n<br />Event to celebrate
  the 241st birthday of the USA and the 268th birthday of the City of Alex
 andria\, featuring entertainment\, cannon salute during the 1812 Overture
 \, food and beverage sales\, and grand Finale fireworks at 9:30.  Come ce
 lebrate at the biggest party in the City!\n<br />\n<br />Location: Oronoc
 o Bay Park\, 100 Madison St.\n<br />Contact Person: Special Events Hotlin
 e\n<br />Contact Phone: 703.746.5592\n<br />Fees: food and beverage sales
 \n<br />Audience: Anyone may attend\n<br />Tags: Family\, Food\, Old Town
 \, Parks\, Recreation\, Volunteer\, Waterfront<br>\n<a href="https://www.
 alexandriava.gov/uploadedFiles/recreation/WebBoxes/BirthdayFlyer.pdf">htt
 ps://www.alexandriava.gov/uploadedFiles/recreation/WebBoxes/BirthdayFlyer
 .pdf</a><br>\n
X-COA-DTSTAMP:20170623T161729Z
END:VEVENT
END:VCALENDAR
